BEGIN:VCALENDAR
VERSION:2.0
METHOD:PUBLISH
BEGIN:VEVENT
UID:WILD_APRICOT_EVENT_498164_SESSION_1
DTSTART:20120617T233000Z
DTEND:20120618T063000Z
SUMMARY:Australian Curriculum: Secondary Assessment and Learning Workshop
LOCATION:Education Development Centre
DESCRIPTION:https://registrationcentre.cesa.catholic.edu.au/event-498164\n\nSecondary Assessment and Learning Workshop\n  This workshop is held for secondary educators to:\n      * Unpack the Australian Curriculum achievement standards and assessment tools\n\n\n        * Trial draft Performance Indicators (assessing quality of student work) in English\, History\, Mathematics and Science\n\n\n        * Participate in processes for use of these assessment tools in school\, sector and national feedback processes. \n\n  Schools are invited to send a group of participants that includes at least one school leader with responsibility for assessment and learning plus a key teacher who is able to support the leader in their work.\n\n  Venue\nRoom G11B\n Education Development Centre\n Milner Street\n HINDMARSH SA 5007\n  Morning tea and lunch provided\n  Registrations close Wednesday 13 June 2012\n  Primary/Secondary Workshop: Tuesday 17 July 2012\n  For registration enquiries please contact:\n  Carolyn Slater\n Catholic Education Office\n Ph 8301 6645\n carolyn.slater@cesa.catholic.edu.au\n
DTSTAMP:20260424T153728Z
END:VEVENT
END:VCALENDAR
