BEGIN:VCALENDAR
VERSION:2.0
METHOD:PUBLISH
BEGIN:VEVENT
UID:WILD_APRICOT_EVENT_497569_SESSION_1
DTSTART:20120620T233000Z
DTEND:20120621T063000Z
SUMMARY:Developing Quality Leaders in Aboriginal & Torres Strait Islander Education
LOCATION:Tauondi College\, 1 Lipson Street\, Port Adelaide
DESCRIPTION:https://registrationcentre.cesa.catholic.edu.au/event-497569\n\nParticipants: Principals\, leadership teams along with Indigenous Education focus teachers\, National Partnerships key personnel and coaches\n  The final session of Dare to Lead’s workshop program will be held on Thursday 21 June at Tauondi College\, Port Adelaide.\n  Leadership teams are reminded that this professional learning experience is an important and crucial aspect of the project and we look forward to seeing you there.\n  All aspects of the program encompass the directions of the National Aboriginal and Torres Strait Islander Education Action Plan and once again\, the program will engage participants in investigating critical success factors directly connected to their school/context.\n  Participants will be invited to share their progress towards the implementation of strategic plans and time in the afternoon will be allocated for leadership teams to meet with each other and consultants for further planning and review.\n\n  Date & Time\n Thursday 21 June 2012\n 9:00am-4:00pm\n  Venue\nTauondi College\n1 Lipson Street\n PORT ADELAIDE\n Please note\, there is no access to Tauondi College via Grand Junction Road.\n  If you have any queries regarding this program\, please contact Dr Roma Aloisi 8301 6892 or Brian Giles-Browne\, National Schools Co-ordinator\, Dare to Lead Brian.Giles-Browne@pa.edu.au\n  Registration enquiries:\nCarolyn Slater 8301 6645\n carolyn.slater@cesa.catholic.edu.au\n
DTSTAMP:20260424T171706Z
END:VEVENT
END:VCALENDAR
