BEGIN:VCALENDAR
VERSION:2.0
METHOD:PUBLISH
BEGIN:VEVENT
UID:WILD_APRICOT_EVENT_488318_SESSION_1
DTSTART:20120528T233000Z
DTEND:20120529T063000Z
SUMMARY:Indigenous Education Focus Teacher Program Day 2 - Embedding Indigenous Perspectives:  Planning and Programming
LOCATION:Room 6\, Catholic Education Conference Centre\, 116 George St\, Thebarton
DESCRIPTION:https://registrationcentre.cesa.catholic.edu.au/event-488318\n\nThe workshop will include the following guest presenters:\n   \n    Simone Ulalka Tur and Faye Blanch – Indigenous Academics from Yunggorendi First Nations Centre\, Flinders University:  Simone and Faye will facilitate an interactive session on developing appropriate teaching and learning strategies for reconciliation\; examining racialisation and its impact on Indigenous Australians and demonstrating culturally inclusive practices. This session will involve discussions about appropriate terminology\, reconciliation pedagogy and Rapping Curriculum.\n     \n  Tony Hole – Literacy Consultant\, CESA:  Tony will present an interactive session designed around the question\, ‘How can the General Capabilities frame your planning of a unit of work with an Indigenous perspective?’\n     \n  Kelli Lewis – Indigenous Education Consultant:  Kelli will address the importance of parent/community engagement in the Reconciliation process and introduce us to an effective model for developing a school RAP (Reconciliation Action Plan).\n     \n  Marti Madigan – Christian Brothers College:  Marti will share her insights and experiences with us regarding the Inquiry Project she undertook in 2011.\n   \n  For any registration queries\, please contact Kathy Stringer -\n  email:  kathy.stringer@cesa.catholic.edu.au or tel: 8301 6653\n   \n  Closing date for registrations:  18 May 2012\n   \n
DTSTAMP:20260424T154311Z
END:VEVENT
END:VCALENDAR
