BEGIN:VCALENDAR
VERSION:2.0
METHOD:PUBLISH
BEGIN:VEVENT
UID:WILD_APRICOT_EVENT_485689_SESSION_1
DTSTART:20120619T231500Z
DTEND:20120620T023000Z
SUMMARY:Maths R-7:  Embedding Aboriginal & Torres Strait Islander Histories & Cultures\, the Cross-Curriculum Priority
LOCATION:The Aboriginal\, Multicultural\, Languages and Learning Resource Centre\, 255 Torrens Road\, West Croydon
DESCRIPTION:https://registrationcentre.cesa.catholic.edu.au/event-485689\n\nCross-sector workshop\n  Teachers from R-7 will engage collaboratively in the development of teaching programs that reflect the embedding of Aboriginal and TSI histories and cultures as recommended by the Australian Curriculum.\n  Specific topics and skills to be covered include:\n -  Hunting Tools:  A Multi-disciplinary Unit (Maths & Science Focus)\n -  Dreaming Story Activities\n -  Using Indigenous Statistics\n -  Patterning and Aboriginal Art\n -  Working with Indigenous Counting Systems and Timelines\n\n  Map of Location:  http://www.lmrc.sa.edu.au/files/links/location.png \n  Map for carparking:  http://www.lmrc.sa.edu.au/files/links/parking.jpg \n\n  For registration enquiries\, please contact:\nKathy Stringer\, Indigenous Education Team\n email:  kathy.stringer@cesa.catholic.edu.au\n  Please note: \n -  Places are limited\n -  Registrations due Friday\, 1 June 2012\n
DTSTAMP:20260424T171636Z
END:VEVENT
END:VCALENDAR
