BEGIN:VCALENDAR
VERSION:2.0
METHOD:PUBLISH
BEGIN:VEVENT
UID:WILD_APRICOT_EVENT_485686_SESSION_1
DTSTART:20120603T233000Z
DTEND:20120604T063000Z
SUMMARY:English R - 10:  Embedding Aboriginal & Torres Strait Islander Histories & Cultures\, the Cross-Curriculum Priority
LOCATION:The Aboriginal\, Multicultural\, Languages and Learning Resource Centre\, 255 Torrens Road\, West Croydon
DESCRIPTION:https://registrationcentre.cesa.catholic.edu.au/event-485686\n\nCross-sector workshop\n  Teachers from R-10 will engage collaboratively in the development of teaching programs that reflect the embedding of Aboriginal and TSI histories and cultures as recommended by the Australian Curriculum.\n  Specific topics and skills to be covered include:\n -  Identity and Literacy\n-  Storytelling\n -  Working with Dreaming Stories\, Plays and Suitable Resources\n -  Working with Digital Technologies\n -  Challenges of Using Visual Texts\n -  Poetry with an Indigenous Perspective\n -  Using Aboriginal Language Books\n\n  Map of Location:  http://www.lmrc.sa.edu.au/files/links/location.png \n  Map for carparking:  http://www.lmrc.sa.edu.au/files/links/parking.jpg \n\n  For registration enquiries\, please contact:\nKathy Stringer\, Indigenous Education Team\n email:  kathy.stringer@cesa.catholic.edu.au\n  Please note: \n -  Places are limited\n -  Registrations due Wednesday\, 30 May 2012\n
DTSTAMP:20260424T171730Z
END:VEVENT
END:VCALENDAR
