BEGIN:VCALENDAR
VERSION:2.0
METHOD:PUBLISH
BEGIN:VEVENT
UID:WILD_APRICOT_EVENT_485684_SESSION_1
DTSTART:20120530T234500Z
DTEND:20120531T060000Z
SUMMARY:Science R - 8:  Embedding Aboriginal & Torres Strait Islander Histories & Cultures\, the Cross-Curriculum Priority
LOCATION:The Aboriginal\, Multicultural\, Languages and Learning Resource Centre\, 255 Torrens Road\, West Croydon
DESCRIPTION:https://registrationcentre.cesa.catholic.edu.au/event-485684\n\nCross-sector workshop\n  Teachers from R-8 will engage collaboratively in the development of teaching programs that reflect the embedding of Aboriginal and TSI histories and cultures as recommended by the Australian Curriculum.\n  Specific topics and skills to be covered include:\n -  Indigenous Astronomy\n-  Indigenous Plant Use and Resources\n -  Establishing Indigenous Gardens\n -  Quality Science Resources\n -  Using Scootle and the Learning Federation Online Tools\n\n  Map of Location:  http://www.lmrc.sa.edu.au/files/links/location.png \n  Map for carparking:  http://www.lmrc.sa.edu.au/files/links/parking.jpg \n\n  For registration enquiries\, please contact:\nKathy Stringer\, Indigenous Education Team\n email:  kathy.stringer@cesa.catholic.edu.au\n  Please note: \n -  Places are limited\n -  Registrations due Monday\, 28 May 2012\n
DTSTAMP:20260424T172618Z
END:VEVENT
END:VCALENDAR
