BEGIN:VCALENDAR
VERSION:2.0
METHOD:PUBLISH
BEGIN:VEVENT
UID:WILD_APRICOT_EVENT_485678_SESSION_1
DTSTART:20120523T234500Z
DTEND:20120524T060000Z
SUMMARY:History 6 - 10:  Embedding Aboriginal & Torres Strait Islander Histories & Cultures\, the Cross-Curriculum Priority
LOCATION:The Aboriginal\, Multicultural\, Languages and Learning Resource Centre\, 255 Torrens Road\, West Croydon
DESCRIPTION:https://registrationcentre.cesa.catholic.edu.au/event-485678\n\nCross-sector workshop\n  Teachers from 6-10 will engage collaboratively in the development of teaching programs that reflect the embedding of Aboriginal and TSI histories and cultures as recommended by the Australian Curriculum.\n  Specific topics and skills to be covered include:\n -  Lake Mungo Resources\n-  The ANZAC Experience\n -  Working with Returned Service Veterans\n -  Constitutional Reform and Indigenous Rights\n -  Stolen Generations\n -  Teaching History Effectively\n\n  Map of Location:  http://www.lmrc.sa.edu.au/files/links/location.png \n  Map for carparking:  http://www.lmrc.sa.edu.au/files/links/parking.jpg \n\n  For registration enquiries\, please contact:\nKathy Stringer\, Indigenous Education Team\n email:  kathy.stringer@cesa.catholic.edu.au\n  Please note: \n -  Places are limited\n -  Registrations due Friday\, 11 May 2012\n
DTSTAMP:20260424T153436Z
END:VEVENT
END:VCALENDAR
