BEGIN:VCALENDAR
VERSION:2.0
METHOD:PUBLISH
BEGIN:VEVENT
UID:WILD_APRICOT_EVENT_483068_SESSION_1
DTSTART:20120520T234500Z
DTEND:20120521T060000Z
SUMMARY:History R - 5:  Embedding Aboriginal & Torres Strait Islander Histories & Cultures\, the Cross-Curriculum Priority
LOCATION:The Aboriginal\, Multicultural\, Languages and Learning Resource Centre\, 255 Torrens Road\, West Croydon
DESCRIPTION:https://registrationcentre.cesa.catholic.edu.au/event-483068\n\nCross-sector workshop\n  Teachers from R-5 will engage collaboratively in the development of teaching programs that reflect the embedding of Aboriginal and TSI histories and cultures as recommended by the Australian Curriculum.\n  Specific topics and skills to be covered include:\n -  Historical Inquiry - teaching history effectively\n -  Importance of Family - totems\, moieties and their relevance today\n -  Celebrations\, Past and Present\n -  First Contact\n -  Using Lake Mungo Resources\n -  Significant Sites\n -  Familiarisation with Resource Centre Resources\n  Map of Location:  http://www.lmrc.sa.edu.au/files/links/location.png \n  Map for carparking:  http://www.lmrc.sa.edu.au/files/links/parking.jpg \n\n  For registration enquiries\, please contact:\nKathy Stringer\, Indigenous Education Team\n email:  kathy.stringer@cesa.catholic.edu.au\n  Please note: \n -  Places are limited\n -  Registrations due Wednesday\, 16 May 2012\n
DTSTAMP:20260424T153426Z
END:VEVENT
END:VCALENDAR
