BEGIN:VCALENDAR
VERSION:2.0
METHOD:PUBLISH
BEGIN:VEVENT
UID:WILD_APRICOT_EVENT_466721_SESSION_1
DTSTART:20120322T223000Z
DTEND:20120323T050000Z
SUMMARY:Australian Curriculum: SECONDARY English Orientation Workshop
LOCATION:Catholic Education Conference Centre
DESCRIPTION:https://registrationcentre.cesa.catholic.edu.au/event-466721\n\nThis one day workshop is a shortened version of what was offered last year\, and is available for teachers and leaders who were unable to attend in 2011.\n  It is designed for a school to send a team of two (ideally a curriculum leader and a classroom teacher of English) to attend on behalf of the school staff.  Participation in the workshop will provide opportunity to become closely acquainted with the dimensions of English in the Australian Curriculum.  The session will provide processes\, information and support so that each team of two would then be enabled to facilitate the same process with their staff at their own school.  \n  Main areas that the session will address:\n      * Aims of Australian Curriculum: English \n\n        * Strands and sub-strands of English\n\n        * Getting to know the English Content Descriptions\, Elaborations and Achievement Standards within a year level\n\n        * General Capabilities and Cross Curriculum Priorities in English\n\n        * Australian Curriculum website and online resources through Scootle\n\n  This workshop will be useful for leaders and key teachers of English to prepare for forthcoming workshops on Achievement Standards which will be offered by the CEO later this year. \n  Enquiries about this course can be referred to Stephen Kelly at stephen.kelly@cesa.catholic.edu.au\n  Venue:\nRoom 8\n Catholic Education Conference Centre\n 116 George Street\, Thebarton\n  Car Parking: \n Is NOT available at the George Street worksite. \n Please see attached map and park in:\n      * Queen of Angels Church carpark - entry via South Road\; or\n\n        * streets surrounding the CEO.\n\n  Registration:  Closes Tuesday\, 20 March 2012\n  For registration enquiries please contact:\n  Elaine Mulhall\nCatholic Education Office\n Ph  8301 6694\nelaine.mulhall@cesa.catholic.edu.au\n   \n   \n
DTSTAMP:20260424T153708Z
END:VEVENT
END:VCALENDAR
