BEGIN:VCALENDAR
VERSION:2.0
METHOD:PUBLISH
BEGIN:VEVENT
UID:WILD_APRICOT_EVENT_464399_SESSION_1
DTSTART:20120328T053000Z
DTEND:20120328T080000Z
SUMMARY:Australian Curriculum - Leaders' Session
LOCATION:Catholic Education Conference Centre\, 116 George Street\, Thebarton
DESCRIPTION:https://registrationcentre.cesa.catholic.edu.au/event-464399\n\nAustralian Curriculum - Leaders' Session\n  The leaders' sessions will provide information regarding achievement standards\, understanding quality indicators of levels of achievement and an opportunity for discussion regarding Australian Curriculum: curriculum design\, assessment and reporting. The sessions will outline the professional learning program and the development of communities of practice to further the implementation of the Australian Curriculum in 2012.\n  Venue:\nCatholic Education Conference Centre\n 116 George Street\, Thebarton  SA  5031\n Room 7\n  Dates/Times:\nWednesday 28 March 2012\n 4.00pm - 6.30pm  \n  Cost: no workshop fee\n  For Further Information regarding registration:\nMary Carmody\nmary.carmody@cesa.catholic.edu.au\n8301 6116\n
DTSTAMP:20260424T190223Z
END:VEVENT
END:VCALENDAR
