BEGIN:VCALENDAR
VERSION:2.0
METHOD:PUBLISH
BEGIN:VEVENT
UID:WILD_APRICOT_EVENT_464397_SESSION_1
DTSTART:20120327T033000Z
DTEND:20120327T060000Z
SUMMARY:Australian Curriculum - Primary Leaders' Session
LOCATION:St Gabriel's School\, 17 Whittington Street\, Enfield  SA  5085
DESCRIPTION:https://registrationcentre.cesa.catholic.edu.au/event-464397\n\nAustralian Curriculum - Primary Leaders' Session\n  The leaders' sessions will provide information regarding achievement standards\, understanding quality indicators of levels of achievement and an opportunity for discussion regarding Australian Curriculum: curriculum design\, assessment and reporting. The sessions will outline the professional learning program and the development of communities of practice to further the implementation of the Australian Curriculum in 2012.\n  Venue:\nSt Gabriel's School\n 17 Whittington Street\, Enfield  SA  5085\n  Dates/Times:\nTuesday 27 March 2012\n 2.00pm - 4.30pm  \n  Cost: no workshop fee\n  For Further Information regarding registration:\nMary Carmody\nmary.carmody@cesa.catholic.edu.au\n8301 6116\n
DTSTAMP:20260424T153756Z
END:VEVENT
END:VCALENDAR
