BEGIN:VCALENDAR
VERSION:2.0
METHOD:PUBLISH
BEGIN:VEVENT
UID:WILD_APRICOT_EVENT_464384_SESSION_1
DTSTART:20120319T223000Z
DTEND:20120320T013000Z
SUMMARY:Australian Curriculum - Secondary Leaders' Session
LOCATION:Bethany - St Joseph's Province Centre - 4 High Street\, Kensington SA 5068
DESCRIPTION:https://registrationcentre.cesa.catholic.edu.au/event-464384\n\nAustralian Curriculum - Secondary Leaders Session\n  The leaders' sessions will provide information regarding achievement standards\, understanding quality indicators of levels of achievement and an opportunity for discussion regarding Australian Curriculum: curriculum design\, assessment and reporting. The sessions will outline the professional learning program and the development of communities of practice to further the implementation of the Australian Curriculum in 2012.\n  Venue:\n"Bethany" St Joseph's Province Centre\n 4 High Street\, Kensington  Sa  5068\n  Dates/Times:\nTuesday 20 March 2012\n 9.00am - 12.00pm  \n  Parking: due to limited space\, on-site parking is not available\n  Cost: no workshop fee\n  For Further Information regarding registration:\nMary Carmody\nmary.carmody@cesa.catholic.edu.au\n8301 6116\n
DTSTAMP:20260424T171739Z
END:VEVENT
END:VCALENDAR
