BEGIN:VCALENDAR
VERSION:2.0
METHOD:PUBLISH
BEGIN:VEVENT
UID:WILD_APRICOT_EVENT_452995_SESSION_1
DTSTART:20121101T223000Z
DTEND:20121102T053000Z
SUMMARY:CANCELLED - REVISED DATE - EAL - Intercultural Understanding
LOCATION:Room 6\, CEO Conference Centre
DESCRIPTION:https://registrationcentre.cesa.catholic.edu.au/event-452995\n\nCANCELLED - REVISED DATE -Intercultural Understanding\n  This one day workshop is useful for primary and secondary teachers\, school leadership teams and administration staff who work with people from a culture other than their own.\n  Last Day to Register: 19.10.12\n  Intercultural understanding involves sustained interactions between people from different cultural groups in which differences and commonalities are recognised and respect between people is cultivated. It operates at two levels\, the personal and the social.\n  This workshop will unpack the rationale statement of the Intercultural understanding general capability in the Australian Curriculum and provide opportunities for participants to explore how to integrate Intercultural Understanding across the curriculum.\n\n  Participants are provided with workshop notes and school or classroom activities.\n  Presenters: EAL Consultants\n Lynette Bellwood\n Chris Payne\n    Venue:\nCESA Conference Centre\n Room6\n 116 George Street\, Thebarton\n  Date/Time:\nFriday 02 November 2012\n 9.00am - 4.00pm\n  Parking is not available on site. Please refer to the attached link.\n Catholic Education Conference Centre\n  Catering: Morning tea and lunch will be provided.\n  Cost: no workshop fee\n  For Further Information regarding registration:\nChris Virgin\n chris.virgin@cesa.catholic.edu.au\n8301 6851\n
DTSTAMP:20260424T153544Z
END:VEVENT
END:VCALENDAR
