BEGIN:VCALENDAR
VERSION:2.0
METHOD:PUBLISH
BEGIN:VEVENT
UID:WILD_APRICOT_EVENT_3537669_SESSION_1
DTSTART:20191106T223000Z
DTEND:20191107T053000Z
SUMMARY:AITSL Assessor Refresher Course (ATPR)
LOCATION:Lakes Resort. Brebner Drive\, Westlakes
DESCRIPTION:https://registrationcentre.cesa.catholic.edu.au/event-3537669\n\nWorkshop Information\n  The AITSL ATPR is not like the ATP with a “deep dive” into the material for new ways of thinking\; rather it is just what it says\, “a refresher”. The Act Nows are not tests in the same way they were in the ATP. In the ATPR you can progress without passing/completing them\, and the ATPR is much more learner-directed. You will have the opportunity to decide what you need to really focus on with regard to revising concepts\, plus take on board the new material on pedagogical bias\, trustworthiness and the Classroom Practice Continuum etc.\n  Facilitator: Adrian Dilger\n  Workshop Enquiries: adrian.dilger@cesa.catholic.edu.au / T: 8301 6138\n  Registration Enquiries: adeline.mcloughlin@cesa.catholic.edu.au\n
DTSTAMP:20260424T172341Z
END:VEVENT
END:VCALENDAR
