BEGIN:VCALENDAR
VERSION:2.0
METHOD:PUBLISH
BEGIN:VEVENT
UID:WILD_APRICOT_EVENT_3523840_SESSION_1
DTSTART:20191031T223000Z
DTEND:20191101T013000Z
SUMMARY:Living Learning Leading through Music Education with Dr Anita Collins
LOCATION:CEO\, 116 George Street\, Thebarton - Room 6
DESCRIPTION:https://registrationcentre.cesa.catholic.edu.au/event-3523840\n\nLeadership Development in collaboration with Religious Identity and Leading Learning and Mercedes College\, is excited to offer an extraordinary opportunity to learn with internationally renowned educator\, Dr Anita Collins.\n \n  Dr Anita Collins is an award-winning educator\, researcher and writer in the field of brain development and music learning.  Anita is best known for her role as on-screen expert and campaign lead for the Don’t Stop the Music documentary that aired on the ABC in late 2018. She is internationally recognised for her unique work in translating the scientific research of neuroscientists and psychologists to the everyday parent\, teacher and student. Over the last two years Anita has interviewed close to 100 researchers in labs across the US\, Canada\, Europe and Australia so she can share the most up to date research with educators. Increasingly Anita is being invited to provide expert opinion on education\, creativity\, strategic direction and innovation. \n \n\n  We encourage you to take advantage of this unique opportunity to engage with Dr Collins’ experience and research with a focus on our Living Learning Leading Framework.  There is no cost to participants and places are limited.\n  For more information on Dr Anita Collins: http://www.anitacollinsmusic.com/\n\n  For further information contact:\n Linda Primavera\, Executive Administrator\, Leadership Development linda.primavera@cesa.catholic.edu.au\n  Phone:  08 8301 6676\n
DTSTAMP:20260424T172527Z
END:VEVENT
END:VCALENDAR
