BEGIN:VCALENDAR
VERSION:2.0
METHOD:PUBLISH
BEGIN:VEVENT
UID:WILD_APRICOT_EVENT_3471845_SESSION_1
DTSTART:20190703T233000Z
DTEND:20191108T060000Z
SUMMARY:Making SPACE for Learning Inquiry 2020 - 2021 : Expression of Interest
LOCATION:TBA
DESCRIPTION:https://registrationcentre.cesa.catholic.edu.au/event-3471845\n\nMaking SPACE for Learning Inquiry 2020 - 2021\n  Expressions of Interest\n  INQUIRY DESCRIPTION\n  This inquiry assists schools to understand the behavioural\, social and learning complexities often associated with children who have experienced developmental trauma. It does this in two ways:\n  1. Through participation in two days of professional learning focusing on typical neurobiological development and in turn the effects of developmental trauma on this development.\n  2. By developing an action research inquiry focusing on children exhibiting trauma-consistent behaviour.\n  INQUIRY STRUCTURE\n      * Two days of professional learning for the whole school in Week 0\, Term 1 2020.\n\n        * A Research Action Inquiry and Report.\n\n        * A two hour meeting with a representative from the Australian Childhood Foundation and a Behaviour Education Consultant in Terms 1 - 3\, 2020 and Term 1\, 2021.\n\n        * Participation in a mid-point Inquiry Sharing Day (Term 4\, 2020).\n\n        * Participation in an end-of-inquiry Showcase Day (Term 2\, 2021).\n\n  INTENDED FOR\n  CESA Schools\n  SYSTEM ACCREDITED MODULE: NO\n  CONTACT DETAILS\n  For further information on the Making SPACE for Learning Inquiry\, please refer to the Circular link  or contact:\n      * Mary Carmody on 8301 6643 or mary.carmody@cesa.catholic.edu.au\n\n        * Michael Lincoln on 8301 6642 or michael.lincoln@cesa.catholic.edu.au\n\n  REGISTRATION CLOSED:  8 November 2019\n  REGISTRATION INQUIRY\n  Please contact ria.wong@cesa.catholic.edu.au\n
DTSTAMP:20260424T154416Z
END:VEVENT
END:VCALENDAR
