BEGIN:VCALENDAR
VERSION:2.0
METHOD:PUBLISH
BEGIN:VEVENT
UID:WILD_APRICOT_EVENT_3430692_SESSION_1
DTSTART:20190626T063000Z
DTEND:20190626T080000Z
SUMMARY:Certification as Highly Accomplished or Lead Teacher 2019 - Workshop Writing Annotations
LOCATION:Cabra Dominican College - 225 Cross Road\, Cumberland Park
DESCRIPTION:https://registrationcentre.cesa.catholic.edu.au/event-3430692\n\nWorkshop Information\n  This workshop will support teachers to:\n      * examine the importance of writing clear\, precise annotations that align evidence to the standard\n\n        * discuss the types of ongoing evidence they are collecting to include in their application\n\n        * access a supportive network to assist them in reviewing and reflecting on their applications before submitting for certification\n\n\n  This is not a general information session. It is for applicants who would like to gain a deeper understanding of the Standards and to collate and annotate evidence to demonstrate impact on their colleagues and students.\n \n\n  Workshop Enquiries: adrian.dilger@cesa.catholic.edu.au / T: 8301 6138\n  Registration Enquiries: adeline.mcloughlin@cesa.catholic.edu.au\n
DTSTAMP:20260424T154345Z
END:VEVENT
END:VCALENDAR
