BEGIN:VCALENDAR
VERSION:2.0
METHOD:PUBLISH
BEGIN:VEVENT
UID:WILD_APRICOT_EVENT_3336121_SESSION_1
DTSTART:20190521T230000Z
DTEND:20190523T063000Z
SUMMARY:Expression of interest - Two day workshop to support teachers working with students on the autism spectrum
LOCATION:The ARC Campbelltown\, 531 Lower North East Road
DESCRIPTION:https://registrationcentre.cesa.catholic.edu.au/event-3336121\n\n\n\n  Expressions of interest\n  Two day workshop to support teachers working with students on the autism spectrum\n  FULL\n  REGISTRATION IS CLOSED\n  Expressions of interest are being collected for Free Professional Learning through Positive Partnerships. \n  The workshop objectives are:\n      * Evidence informed knowledge of autism and how it directly impacts on a young person's learning and participation.\n\n        * Effective strategies to help maximise a young person's learning in the school and home environments.\n\n        * Understanding of young people on the autism spectrum and their families' experiences at home and school.\n\n  This Professional Learning involves pre and post workshop tasks.\n  Schools may be eligible for a $2020 resource funding for the two eligible staff upon attendance at both workshop days.\n  Please register your interest on the CESA Registration Centre. This information will be collated and shared with Positive Partnerships.\n  Workshop details\n  The ARC Campbelltown\n 531 Lower North East Road\n 22 & 23 May 2019\n 8.30 am - 4.00 pm\n  For more inquiry regarding this professional learning please contact ciara.james@cesa.catholic.edu.au\n  For registration inquiry please contact ria.wong@cesa.catholic.edu.au\n  Registration close on: 4 April 2019\n  1819SACOPL4 CAMPBELLTOWN Professional Learning Flyer-compressed.pdf\n\n  \n\n
DTSTAMP:20260424T171930Z
END:VEVENT
END:VCALENDAR
