BEGIN:VCALENDAR
VERSION:2.0
METHOD:PUBLISH
BEGIN:VEVENT
UID:WILD_APRICOT_EVENT_3236394_SESSION_1
DTSTART:20190306T053000Z
DTEND:20190306T073000Z
SUMMARY:Teacher Certification Information Session
LOCATION:Catholic Education Office\, Conference Centre Room 8. 116 George Street\, Thebarton
DESCRIPTION:https://registrationcentre.cesa.catholic.edu.au/event-3236394\n\nApplication for Teacher Certification 2018 - 2019\n \n During this session\, you will:\n      * gain an insight into the process of obtaining Highly Accomplished and Lead Teacher Certification\n\n\n        * be provided with opportunities to discuss the types of ongoing evidence that may be collected to evidence applications\n\n\n        * explore the importance of writing clear\, precise annotations that align evidence to the Standard\n\n\n        * gain an understanding of the role of assessor\, principal\, referees and applicants in the certification process\n\n\n        * gain an insight into some possible opportunities for Certified teachers\n\n\n  \n Session Enquiries - Adrian Dilger\nadrian.dilger@cesa.catholic.edu.au / T: 8301 6138\n  Registration Enquiries - Lin McLoughlin\nadeline.mcloughlin@cesa.catholic.edu.au / T: 8301 6641\n
DTSTAMP:20260424T172305Z
END:VEVENT
END:VCALENDAR
