BEGIN:VCALENDAR
VERSION:2.0
METHOD:PUBLISH
BEGIN:VEVENT
UID:WILD_APRICOT_EVENT_3171998_SESSION_1
DTSTART:20190314T223000Z
DTEND:20191129T053000Z
SUMMARY:Child Safety and Wellbeing Network 2019
LOCATION:Catholic Education Conference Centre\, Rm 7
DESCRIPTION:https://registrationcentre.cesa.catholic.edu.au/event-3171998\n\nChild Safety and Wellbeing Network 2019\n  Description:\n  The CESA Child Safety and Wellbeing Network will focus on Keeping Safe Child Protection Curriculum\, curriculum design with the Australian Curriculum and quality teaching and learning. It will consist of a series of three network sessions with a focus on developing\, teaching and moderating child safety curriculum plans and assessment tasks.\n  The professional learning sessions will focus on:\n      * Capabilities as drivers of curriculum\n\n        * Integration of Australian Curriculum Learning areas and Keeping Safe: Child Protection Curriculum\n\n        * Design and moderation of Keeping Safe: Child Protection Curriculum plans and assessment tasks\n\n  It is expected that participants will attend all three child safety and wellbeing network sessions and undertake both planning tasks and targeted teaching and learning with the Keeping Safe Child Protection curriculum between sessions.\n  Participants:\n  Primary and Secondary Learning coordinators\, Child Protection hub group leaders and teachers\n  Session Details:\n                          Primary Network\n                        Secondary Network\n                                  Friday 15 March –Room 7 CEO\n                        Friday 15 March –Room 7 CEO\n                                  Thursday 6 June - Room 8 CEO\n                        Thursday 7 June - Room 6 CEO\n                                  Thursday 5 September - Room 6 CEO\n               Friday 6 September - Room 6 CEO                  Friday\, 29 November - Room 6 CEO        Friday 29 November - Room 6 CEO           \n\n  Please contact Inclusion and Learning Consultants: Andrea Richardson 83016662 or Marianne Farrugia 83016147 for further information.\n  Registration closed: Friday\, 8 March (4.00pm)\n  For registration inquiry please contact ria.wong@cesa.catholic.edu.au\n  \n\n  \n\n  \n\n
DTSTAMP:20260424T153958Z
END:VEVENT
END:VCALENDAR
