BEGIN:VCALENDAR
VERSION:2.0
METHOD:PUBLISH
BEGIN:VEVENT
UID:WILD_APRICOT_EVENT_3161060_SESSION_1
DTSTART:20190402T220000Z
DTEND:20190403T053000Z
SUMMARY:CESA School Leader Pathways Program - Adelaide (Code: 3.5) (session 1 of 3)
LOCATION:Three face-to-face workshops will be held at The Grange Golf Club\, White Sands Drive\, Grange.
DESCRIPTION:https://registrationcentre.cesa.catholic.edu.au/event-3161060\n\nThe CESA School Leader Pathways Program focuses explicitly on developing outstanding leaders to grow leadership density and success of CESA schools.\n  It focuses on the critical dimensions of effective\, collaborative leadershp within the Catholic schooling context.  The program employs an integrated learning methodology combining expert tuition\, peer knowledge-sharing\, practical workplace application and guided personal thought and reflection.\n  The program is delivered in a blended mode combining 3 face-to-face workshops and 4 online (webinar) modules. The modules have been designed to support participants in deepening their understanding of the program content and applying their learning in their school roles and context. The modules are:\n      *             Leading students towards learning        \n\n        *             Leading learning designs        \n\n        *             Leading in community        \n\n        *             Leading for sustainability and radical change        \n\n     The 4 webinar sessions will be held at 3.45pm to 4.45pm on:         \n          - Thursday 2 May       - Thursday 30 May       - Tuesday 25 June       - Thursday 25 July     The program is developed in partnership with the National Excellence in School Leadership Initiative (NESLI) and builds upon experience from the Middle Leaders Program and is designed for teachers holding positions of responsibility in Catholic schools.\n  Please refer to the 2019 CESA School Leader Pathways Program brochure for more information.\n\n  Cost per participant will be $1\,200.\n  CESA will issue an invoice to participants once the course has commenced.\n\n  For further information contact:\nLinda Primavera\, Executive Administrator\, Leadership Development linda.primavera@cesa.catholic.edu.au\nPhone:  08 8301 6676\n  Note: Registrations close at 12 noon on Friday 22 February 2019\n
DTSTAMP:20260424T154619Z
END:VEVENT
BEGIN:VEVENT
UID:WILD_APRICOT_EVENT_3161060_SESSION_2
DTSTART:20190403T220000Z
DTEND:20190404T053000Z
SUMMARY:CESA School Leader Pathways Program - Adelaide (Code: 3.5) (session 2 of 3)
LOCATION:Three face-to-face workshops will be held at The Grange Golf Club\, White Sands Drive\, Grange.
DESCRIPTION:https://registrationcentre.cesa.catholic.edu.au/event-3161060\n\nThe CESA School Leader Pathways Program focuses explicitly on developing outstanding leaders to grow leadership density and success of CESA schools.\n  It focuses on the critical dimensions of effective\, collaborative leadershp within the Catholic schooling context.  The program employs an integrated learning methodology combining expert tuition\, peer knowledge-sharing\, practical workplace application and guided personal thought and reflection.\n  The program is delivered in a blended mode combining 3 face-to-face workshops and 4 online (webinar) modules. The modules have been designed to support participants in deepening their understanding of the program content and applying their learning in their school roles and context. The modules are:\n      *             Leading students towards learning        \n\n        *             Leading learning designs        \n\n        *             Leading in community        \n\n        *             Leading for sustainability and radical change        \n\n     The 4 webinar sessions will be held at 3.45pm to 4.45pm on:         \n          - Thursday 2 May       - Thursday 30 May       - Tuesday 25 June       - Thursday 25 July     The program is developed in partnership with the National Excellence in School Leadership Initiative (NESLI) and builds upon experience from the Middle Leaders Program and is designed for teachers holding positions of responsibility in Catholic schools.\n  Please refer to the 2019 CESA School Leader Pathways Program brochure for more information.\n\n  Cost per participant will be $1\,200.\n  CESA will issue an invoice to participants once the course has commenced.\n\n  For further information contact:\nLinda Primavera\, Executive Administrator\, Leadership Development linda.primavera@cesa.catholic.edu.au\nPhone:  08 8301 6676\n  Note: Registrations close at 12 noon on Friday 22 February 2019\n
DTSTAMP:20260424T154619Z
END:VEVENT
BEGIN:VEVENT
UID:WILD_APRICOT_EVENT_3161060_SESSION_3
DTSTART:20190820T230000Z
DTEND:20190821T063000Z
SUMMARY:CESA School Leader Pathways Program - Adelaide (Code: 3.5) (session 3 of 3)
LOCATION:Three face-to-face workshops will be held at The Grange Golf Club\, White Sands Drive\, Grange.
DESCRIPTION:https://registrationcentre.cesa.catholic.edu.au/event-3161060\n\nThe CESA School Leader Pathways Program focuses explicitly on developing outstanding leaders to grow leadership density and success of CESA schools.\n  It focuses on the critical dimensions of effective\, collaborative leadershp within the Catholic schooling context.  The program employs an integrated learning methodology combining expert tuition\, peer knowledge-sharing\, practical workplace application and guided personal thought and reflection.\n  The program is delivered in a blended mode combining 3 face-to-face workshops and 4 online (webinar) modules. The modules have been designed to support participants in deepening their understanding of the program content and applying their learning in their school roles and context. The modules are:\n      *             Leading students towards learning        \n\n        *             Leading learning designs        \n\n        *             Leading in community        \n\n        *             Leading for sustainability and radical change        \n\n     The 4 webinar sessions will be held at 3.45pm to 4.45pm on:         \n          - Thursday 2 May       - Thursday 30 May       - Tuesday 25 June       - Thursday 25 July     The program is developed in partnership with the National Excellence in School Leadership Initiative (NESLI) and builds upon experience from the Middle Leaders Program and is designed for teachers holding positions of responsibility in Catholic schools.\n  Please refer to the 2019 CESA School Leader Pathways Program brochure for more information.\n\n  Cost per participant will be $1\,200.\n  CESA will issue an invoice to participants once the course has commenced.\n\n  For further information contact:\nLinda Primavera\, Executive Administrator\, Leadership Development linda.primavera@cesa.catholic.edu.au\nPhone:  08 8301 6676\n  Note: Registrations close at 12 noon on Friday 22 February 2019\n
DTSTAMP:20260424T154619Z
END:VEVENT
END:VCALENDAR
