BEGIN:VCALENDAR
VERSION:2.0
METHOD:PUBLISH
BEGIN:VEVENT
UID:WILD_APRICOT_EVENT_3129995_SESSION_1
DTSTART:20190304T223000Z
DTEND:20190322T053000Z
SUMMARY:EAL - Assessment for Learning Using the Language and Literacy Levels - 3 Day Workshop - Term 1\, 2019
LOCATION:Catholic Education Conference Centre\, 116 George Street\, Thebarton
DESCRIPTION:https://registrationcentre.cesa.catholic.edu.au/event-3129995\n\nEAL\nAssessment for Learning Using the Language and Literacy Levels - 3 Day Workshop - Term 1\, 2019\n  Last Day to Register: Wednesday 27 February 2019\n  COURSE DESCRIPTION\n The Language and Literacy Levels across the Australian Curriculum: EALD students is the tool used by teachers of EAL learners to assess and plan for their language and literacy development. The Levels provide detailed information about students' written and oral language development which can be used for assessment and programming purposes.\n  COURSE INFORMATION\n Registration is for all 3 days\; participants are required to attend all sessions\n                          Term\, Week\n                        Date\n                        Time\n                        Venue\n                                  Term 1\, Week 6\n                        Tuesday 05 March\n                        9.00 – 3.30\n                        Room 7 & 8\n                                  Term 1\, Week 7\n                        Thursday 14 March\n                        9.00 – 3.30\n                        Room 7 & 8\n                                  Term 1\, Week 8\n                        Friday 22 March\n                        9.00 – 3.00\n                        Room 7 & 8\n                \n  Location:     Catholic Education Conference Centre\,  116 George Street\, Thebarton\n                         \n AITSL NATIONAL PROFESSIONAL STANDARDS FOR TEACHERS INCLUDE:\n Standard 5 - Assess\, provide feedback and report on student learning\n      5.1 Assess student learning\n       5.3 Make consistent and comparable judgments\n       5.4 Interpret student data\n Standard 6 - Engage in professional learning\n       6.2 Engage in professional learning and improve practice\n       6.3 Engage with colleagues and improve practice\n \n INTENDED FOR:\nThis workshop is suitable for primary and secondary teachers who wish to learn how to use the Levels to assess oral and written language as an assessment for learning tool. Also schools that are intending to submit EAL data in 2019 need to ensure that at least one of their teachers is trained in using the Levels.\n  Maximum of 30 participants\n  PROGRAM OUTLINE:\n\n      * An introduction to the Language and Literacy Levels and links to the Australian Curriculum\n\n        * Learn about the functional model of language at text\, sentence and word level as described in the Language and Literacy Levels\n\n        * Develop knowledge and skills for reliable and valid assessments of written and oral language\n\n        * Build confidence to use the Levels to identify teaching and learning needs\n\n        * Teaching strategies for explicitly teaching language (grammar)\n\n        * Application to own student writing samples\n\n  Cost: no workshop fee\n  Catering: morning tea and lunch will be provided\n  Facilitator: Leading Learning Consultants\n  \n For Further Information regarding registration:\n  Chris Virgin\n chris.virgin@cesa.catholic.edu.au\n or  8301 6851\n
DTSTAMP:20260424T190419Z
END:VEVENT
END:VCALENDAR
