BEGIN:VCALENDAR
VERSION:2.0
METHOD:PUBLISH
BEGIN:VEVENT
UID:WILD_APRICOT_EVENT_2911157_SESSION_1
DTSTART:20180607T233000Z
DTEND:20180608T060000Z
SUMMARY:Child Safety and Wellbeing Network 2018 - Secondary Network (session 1 of 3)
LOCATION:8 June (CEO\, Rm 6) \; 26 July (CEO\, Rm 7) \; 14 September (CEO\, Rm 6)
DESCRIPTION:https://registrationcentre.cesa.catholic.edu.au/event-2911157\n\nChild Safety and Wellbeing Network 2018\n  Description:\n  The CESA Child Safety and Wellbeing Network will focus on Keeping Safe Child Protection Curriculum\, curriculum design with the Australian Curriculum and quality teaching and learning. It will consist of a series of three network sessions with a focus on developing\, teaching and moderating child safety curriculum plans and assessment tasks.\n  The professional learning sessions will focus on:\n      * Capabilities as drivers of curriculum\n\n        * Integration of Australian Curriculum Learning areas and Keeping Safe: Child Protection Curriculum\n\n        * Design and moderation of Keeping Safe: Child Protection Curriculum plans and assessment tasks\n\n  It is expected that participants will attend all three child safety and wellbeing network sessions and undertake both planning tasks and targeted teaching and learning with the Keeping Safe Child Protection curriculum between sessions.\n  Participants:\n  Primary and Secondary Learning coordinators\, Child Protection hub group leaders and teachers\n  Session Details:\n                          Primary Network\n                        Secondary Network\n                                  Friday 8th June –Room 6 CEO\n                        Friday 8 June –Room 6 CEO\n                                  Friday 10th August –Grange Golf Club\n                        Thursday 26th July-Room 7 CEO\n                                  Friday 26th October – Room 6 CEO\n                        Friday 14th September –Room 6 CEO\n                  \n\n  Please contact Inclusion and Learning Consultants: Andrea Richardson 83016662 or Marianne Farrugia 83016147 for further information.\n  Registration closed: Tuesday\, 5 June 2018 (9.00 am)\n  For registration inquiry please contact ria.wong@cesa.catholic.edu.au\n  \n\n  \n\n  \n\n
DTSTAMP:20260424T172203Z
END:VEVENT
BEGIN:VEVENT
UID:WILD_APRICOT_EVENT_2911157_SESSION_2
DTSTART:20180725T233000Z
DTEND:20180726T060000Z
SUMMARY:Child Safety and Wellbeing Network 2018 - Secondary Network (session 2 of 3)
LOCATION:8 June (CEO\, Rm 6) \; 26 July (CEO\, Rm 7) \; 14 September (CEO\, Rm 6)
DESCRIPTION:https://registrationcentre.cesa.catholic.edu.au/event-2911157\n\nChild Safety and Wellbeing Network 2018\n  Description:\n  The CESA Child Safety and Wellbeing Network will focus on Keeping Safe Child Protection Curriculum\, curriculum design with the Australian Curriculum and quality teaching and learning. It will consist of a series of three network sessions with a focus on developing\, teaching and moderating child safety curriculum plans and assessment tasks.\n  The professional learning sessions will focus on:\n      * Capabilities as drivers of curriculum\n\n        * Integration of Australian Curriculum Learning areas and Keeping Safe: Child Protection Curriculum\n\n        * Design and moderation of Keeping Safe: Child Protection Curriculum plans and assessment tasks\n\n  It is expected that participants will attend all three child safety and wellbeing network sessions and undertake both planning tasks and targeted teaching and learning with the Keeping Safe Child Protection curriculum between sessions.\n  Participants:\n  Primary and Secondary Learning coordinators\, Child Protection hub group leaders and teachers\n  Session Details:\n                          Primary Network\n                        Secondary Network\n                                  Friday 8th June –Room 6 CEO\n                        Friday 8 June –Room 6 CEO\n                                  Friday 10th August –Grange Golf Club\n                        Thursday 26th July-Room 7 CEO\n                                  Friday 26th October – Room 6 CEO\n                        Friday 14th September –Room 6 CEO\n                  \n\n  Please contact Inclusion and Learning Consultants: Andrea Richardson 83016662 or Marianne Farrugia 83016147 for further information.\n  Registration closed: Tuesday\, 5 June 2018 (9.00 am)\n  For registration inquiry please contact ria.wong@cesa.catholic.edu.au\n  \n\n  \n\n  \n\n
DTSTAMP:20260424T172203Z
END:VEVENT
BEGIN:VEVENT
UID:WILD_APRICOT_EVENT_2911157_SESSION_3
DTSTART:20180913T233000Z
DTEND:20180914T060000Z
SUMMARY:Child Safety and Wellbeing Network 2018 - Secondary Network (session 3 of 3)
LOCATION:8 June (CEO\, Rm 6) \; 26 July (CEO\, Rm 7) \; 14 September (CEO\, Rm 6)
DESCRIPTION:https://registrationcentre.cesa.catholic.edu.au/event-2911157\n\nChild Safety and Wellbeing Network 2018\n  Description:\n  The CESA Child Safety and Wellbeing Network will focus on Keeping Safe Child Protection Curriculum\, curriculum design with the Australian Curriculum and quality teaching and learning. It will consist of a series of three network sessions with a focus on developing\, teaching and moderating child safety curriculum plans and assessment tasks.\n  The professional learning sessions will focus on:\n      * Capabilities as drivers of curriculum\n\n        * Integration of Australian Curriculum Learning areas and Keeping Safe: Child Protection Curriculum\n\n        * Design and moderation of Keeping Safe: Child Protection Curriculum plans and assessment tasks\n\n  It is expected that participants will attend all three child safety and wellbeing network sessions and undertake both planning tasks and targeted teaching and learning with the Keeping Safe Child Protection curriculum between sessions.\n  Participants:\n  Primary and Secondary Learning coordinators\, Child Protection hub group leaders and teachers\n  Session Details:\n                          Primary Network\n                        Secondary Network\n                                  Friday 8th June –Room 6 CEO\n                        Friday 8 June –Room 6 CEO\n                                  Friday 10th August –Grange Golf Club\n                        Thursday 26th July-Room 7 CEO\n                                  Friday 26th October – Room 6 CEO\n                        Friday 14th September –Room 6 CEO\n                  \n\n  Please contact Inclusion and Learning Consultants: Andrea Richardson 83016662 or Marianne Farrugia 83016147 for further information.\n  Registration closed: Tuesday\, 5 June 2018 (9.00 am)\n  For registration inquiry please contact ria.wong@cesa.catholic.edu.au\n  \n\n  \n\n  \n\n
DTSTAMP:20260424T172203Z
END:VEVENT
END:VCALENDAR
