BEGIN:VCALENDAR
VERSION:2.0
METHOD:PUBLISH
BEGIN:VEVENT
UID:WILD_APRICOT_EVENT_2899707_SESSION_1
DTSTART:20180606T233000Z
DTEND:20180607T063000Z
SUMMARY:Future Ready With Education Changemakers (session 1 of 5)
LOCATION:Glenelg Golf Club / Samsung SMART School\, Magill Campus
DESCRIPTION:https://registrationcentre.cesa.catholic.edu.au/event-2899707\n\nThe Future Ready Program unleashes the curriculum innovations of staff\, helping them to create real-world\, classroom ready units for students. With a tailored focus on STEM\, teaching teams will be coached through a strategic design process which will deliver unique\, fully resourced\, project based learning units.\n  Workshop 1: Participants are supported to envision the quality and style of learning they would like to work towards in their school\, acknowledging their current realities and diagnosing  challenges. Engaging with project based learning\, informed by research and best practice from across the globe\, participants will ideate new learning units\, grounding this creativity in the demands of the curriculum for a given year level.\n  Workshop 2: Participants conduct early tests of their concepts with stakeholders between workshop one and two to gain feedback. In workshop two participants work in teams to draw upon these insights and improve their units\, design their assessment tasks and ensure alignment with achievement standards.\n  Workshop 3: Before Workshop 3\, participants finalise their assessment tasks\, and share resources and information with other members of the cohort. In this workshop participants work in groups to complete their skeleton unit overview\, connect new and existing resources to their units and re-engage with new best practice examples from learning centres across the globe.\n  Workshop 4: Before Workshop 4\,  teams work to finalise their unit overviews and collate necessary resources. This workshop sees teams engage with learning around best practice delivery of their units\, ideate real world connections and collaborations to support their programs and gain feedback from their peers to further improve. Participants also learn communication and presentation skills to prepare them for the showcase event.\n  Showcase Event: At the Showcase\, teaching teams present their units to key stakeholders for feedback and to foster authorship and ownership. Armed with these insights and approvals\, participants move on from this session\, ready to implement their units in the next term\n  Workshops Will Be Held On The Following Dates\n 1. Thursday 7 June 2018 (Glenelg Golf Club)\n2. Friday 8 June 2018 (SMART School)\n 3. Monday 13 August 2018 (SMART School)\n 4. Monday 17 September 2018 (SMART School)\n 5. Wednesday 28 November 2018\, STEM Showcase (Venue TBA)\n\n Core FOCI And Priorities\n1. STEM\n2. Leading Whole School Change\n3. Integration of Curriculum\n\n  AITSL National Professional Standards For Teachers Include\nStandard 1: Know students and how they learn (1.2)\n Standard 2: Plan for and implement effective teaching and learning (2.2\, 2.3)\n Standard 3: Plan for and implement effective teaching and learning (3.2)\n  Intended For\n Middle Years Leaders and Teachers who teach Science\, Mathematics and / or Technologies\n  Facilitators\n Education Changemakers and CESA Learning & Technologies Team\n\n  Workshop Enquiries\nmelanie.oleary@cesa.catholic.edu.au / T: 8301 6820\n  Registration Enquiries\n adeline.mcloughlin@cesa.catholic.edu.au\n
DTSTAMP:20260424T172657Z
END:VEVENT
BEGIN:VEVENT
UID:WILD_APRICOT_EVENT_2899707_SESSION_2
DTSTART:20180607T233000Z
DTEND:20180608T063000Z
SUMMARY:Future Ready With Education Changemakers (session 2 of 5)
LOCATION:Glenelg Golf Club / Samsung SMART School\, Magill Campus
DESCRIPTION:https://registrationcentre.cesa.catholic.edu.au/event-2899707\n\nThe Future Ready Program unleashes the curriculum innovations of staff\, helping them to create real-world\, classroom ready units for students. With a tailored focus on STEM\, teaching teams will be coached through a strategic design process which will deliver unique\, fully resourced\, project based learning units.\n  Workshop 1: Participants are supported to envision the quality and style of learning they would like to work towards in their school\, acknowledging their current realities and diagnosing  challenges. Engaging with project based learning\, informed by research and best practice from across the globe\, participants will ideate new learning units\, grounding this creativity in the demands of the curriculum for a given year level.\n  Workshop 2: Participants conduct early tests of their concepts with stakeholders between workshop one and two to gain feedback. In workshop two participants work in teams to draw upon these insights and improve their units\, design their assessment tasks and ensure alignment with achievement standards.\n  Workshop 3: Before Workshop 3\, participants finalise their assessment tasks\, and share resources and information with other members of the cohort. In this workshop participants work in groups to complete their skeleton unit overview\, connect new and existing resources to their units and re-engage with new best practice examples from learning centres across the globe.\n  Workshop 4: Before Workshop 4\,  teams work to finalise their unit overviews and collate necessary resources. This workshop sees teams engage with learning around best practice delivery of their units\, ideate real world connections and collaborations to support their programs and gain feedback from their peers to further improve. Participants also learn communication and presentation skills to prepare them for the showcase event.\n  Showcase Event: At the Showcase\, teaching teams present their units to key stakeholders for feedback and to foster authorship and ownership. Armed with these insights and approvals\, participants move on from this session\, ready to implement their units in the next term\n  Workshops Will Be Held On The Following Dates\n 1. Thursday 7 June 2018 (Glenelg Golf Club)\n2. Friday 8 June 2018 (SMART School)\n 3. Monday 13 August 2018 (SMART School)\n 4. Monday 17 September 2018 (SMART School)\n 5. Wednesday 28 November 2018\, STEM Showcase (Venue TBA)\n\n Core FOCI And Priorities\n1. STEM\n2. Leading Whole School Change\n3. Integration of Curriculum\n\n  AITSL National Professional Standards For Teachers Include\nStandard 1: Know students and how they learn (1.2)\n Standard 2: Plan for and implement effective teaching and learning (2.2\, 2.3)\n Standard 3: Plan for and implement effective teaching and learning (3.2)\n  Intended For\n Middle Years Leaders and Teachers who teach Science\, Mathematics and / or Technologies\n  Facilitators\n Education Changemakers and CESA Learning & Technologies Team\n\n  Workshop Enquiries\nmelanie.oleary@cesa.catholic.edu.au / T: 8301 6820\n  Registration Enquiries\n adeline.mcloughlin@cesa.catholic.edu.au\n
DTSTAMP:20260424T172657Z
END:VEVENT
BEGIN:VEVENT
UID:WILD_APRICOT_EVENT_2899707_SESSION_3
DTSTART:20180812T233000Z
DTEND:20180813T063000Z
SUMMARY:Future Ready With Education Changemakers (session 3 of 5)
LOCATION:Glenelg Golf Club / Samsung SMART School\, Magill Campus
DESCRIPTION:https://registrationcentre.cesa.catholic.edu.au/event-2899707\n\nThe Future Ready Program unleashes the curriculum innovations of staff\, helping them to create real-world\, classroom ready units for students. With a tailored focus on STEM\, teaching teams will be coached through a strategic design process which will deliver unique\, fully resourced\, project based learning units.\n  Workshop 1: Participants are supported to envision the quality and style of learning they would like to work towards in their school\, acknowledging their current realities and diagnosing  challenges. Engaging with project based learning\, informed by research and best practice from across the globe\, participants will ideate new learning units\, grounding this creativity in the demands of the curriculum for a given year level.\n  Workshop 2: Participants conduct early tests of their concepts with stakeholders between workshop one and two to gain feedback. In workshop two participants work in teams to draw upon these insights and improve their units\, design their assessment tasks and ensure alignment with achievement standards.\n  Workshop 3: Before Workshop 3\, participants finalise their assessment tasks\, and share resources and information with other members of the cohort. In this workshop participants work in groups to complete their skeleton unit overview\, connect new and existing resources to their units and re-engage with new best practice examples from learning centres across the globe.\n  Workshop 4: Before Workshop 4\,  teams work to finalise their unit overviews and collate necessary resources. This workshop sees teams engage with learning around best practice delivery of their units\, ideate real world connections and collaborations to support their programs and gain feedback from their peers to further improve. Participants also learn communication and presentation skills to prepare them for the showcase event.\n  Showcase Event: At the Showcase\, teaching teams present their units to key stakeholders for feedback and to foster authorship and ownership. Armed with these insights and approvals\, participants move on from this session\, ready to implement their units in the next term\n  Workshops Will Be Held On The Following Dates\n 1. Thursday 7 June 2018 (Glenelg Golf Club)\n2. Friday 8 June 2018 (SMART School)\n 3. Monday 13 August 2018 (SMART School)\n 4. Monday 17 September 2018 (SMART School)\n 5. Wednesday 28 November 2018\, STEM Showcase (Venue TBA)\n\n Core FOCI And Priorities\n1. STEM\n2. Leading Whole School Change\n3. Integration of Curriculum\n\n  AITSL National Professional Standards For Teachers Include\nStandard 1: Know students and how they learn (1.2)\n Standard 2: Plan for and implement effective teaching and learning (2.2\, 2.3)\n Standard 3: Plan for and implement effective teaching and learning (3.2)\n  Intended For\n Middle Years Leaders and Teachers who teach Science\, Mathematics and / or Technologies\n  Facilitators\n Education Changemakers and CESA Learning & Technologies Team\n\n  Workshop Enquiries\nmelanie.oleary@cesa.catholic.edu.au / T: 8301 6820\n  Registration Enquiries\n adeline.mcloughlin@cesa.catholic.edu.au\n
DTSTAMP:20260424T172657Z
END:VEVENT
BEGIN:VEVENT
UID:WILD_APRICOT_EVENT_2899707_SESSION_4
DTSTART:20180916T233000Z
DTEND:20180917T063000Z
SUMMARY:Future Ready With Education Changemakers (session 4 of 5)
LOCATION:Glenelg Golf Club / Samsung SMART School\, Magill Campus
DESCRIPTION:https://registrationcentre.cesa.catholic.edu.au/event-2899707\n\nThe Future Ready Program unleashes the curriculum innovations of staff\, helping them to create real-world\, classroom ready units for students. With a tailored focus on STEM\, teaching teams will be coached through a strategic design process which will deliver unique\, fully resourced\, project based learning units.\n  Workshop 1: Participants are supported to envision the quality and style of learning they would like to work towards in their school\, acknowledging their current realities and diagnosing  challenges. Engaging with project based learning\, informed by research and best practice from across the globe\, participants will ideate new learning units\, grounding this creativity in the demands of the curriculum for a given year level.\n  Workshop 2: Participants conduct early tests of their concepts with stakeholders between workshop one and two to gain feedback. In workshop two participants work in teams to draw upon these insights and improve their units\, design their assessment tasks and ensure alignment with achievement standards.\n  Workshop 3: Before Workshop 3\, participants finalise their assessment tasks\, and share resources and information with other members of the cohort. In this workshop participants work in groups to complete their skeleton unit overview\, connect new and existing resources to their units and re-engage with new best practice examples from learning centres across the globe.\n  Workshop 4: Before Workshop 4\,  teams work to finalise their unit overviews and collate necessary resources. This workshop sees teams engage with learning around best practice delivery of their units\, ideate real world connections and collaborations to support their programs and gain feedback from their peers to further improve. Participants also learn communication and presentation skills to prepare them for the showcase event.\n  Showcase Event: At the Showcase\, teaching teams present their units to key stakeholders for feedback and to foster authorship and ownership. Armed with these insights and approvals\, participants move on from this session\, ready to implement their units in the next term\n  Workshops Will Be Held On The Following Dates\n 1. Thursday 7 June 2018 (Glenelg Golf Club)\n2. Friday 8 June 2018 (SMART School)\n 3. Monday 13 August 2018 (SMART School)\n 4. Monday 17 September 2018 (SMART School)\n 5. Wednesday 28 November 2018\, STEM Showcase (Venue TBA)\n\n Core FOCI And Priorities\n1. STEM\n2. Leading Whole School Change\n3. Integration of Curriculum\n\n  AITSL National Professional Standards For Teachers Include\nStandard 1: Know students and how they learn (1.2)\n Standard 2: Plan for and implement effective teaching and learning (2.2\, 2.3)\n Standard 3: Plan for and implement effective teaching and learning (3.2)\n  Intended For\n Middle Years Leaders and Teachers who teach Science\, Mathematics and / or Technologies\n  Facilitators\n Education Changemakers and CESA Learning & Technologies Team\n\n  Workshop Enquiries\nmelanie.oleary@cesa.catholic.edu.au / T: 8301 6820\n  Registration Enquiries\n adeline.mcloughlin@cesa.catholic.edu.au\n
DTSTAMP:20260424T172657Z
END:VEVENT
BEGIN:VEVENT
UID:WILD_APRICOT_EVENT_2899707_SESSION_5
DTSTART:20181127T223000Z
DTEND:20181128T053000Z
SUMMARY:Future Ready With Education Changemakers (session 5 of 5)
LOCATION:Glenelg Golf Club / Samsung SMART School\, Magill Campus
DESCRIPTION:https://registrationcentre.cesa.catholic.edu.au/event-2899707\n\nThe Future Ready Program unleashes the curriculum innovations of staff\, helping them to create real-world\, classroom ready units for students. With a tailored focus on STEM\, teaching teams will be coached through a strategic design process which will deliver unique\, fully resourced\, project based learning units.\n  Workshop 1: Participants are supported to envision the quality and style of learning they would like to work towards in their school\, acknowledging their current realities and diagnosing  challenges. Engaging with project based learning\, informed by research and best practice from across the globe\, participants will ideate new learning units\, grounding this creativity in the demands of the curriculum for a given year level.\n  Workshop 2: Participants conduct early tests of their concepts with stakeholders between workshop one and two to gain feedback. In workshop two participants work in teams to draw upon these insights and improve their units\, design their assessment tasks and ensure alignment with achievement standards.\n  Workshop 3: Before Workshop 3\, participants finalise their assessment tasks\, and share resources and information with other members of the cohort. In this workshop participants work in groups to complete their skeleton unit overview\, connect new and existing resources to their units and re-engage with new best practice examples from learning centres across the globe.\n  Workshop 4: Before Workshop 4\,  teams work to finalise their unit overviews and collate necessary resources. This workshop sees teams engage with learning around best practice delivery of their units\, ideate real world connections and collaborations to support their programs and gain feedback from their peers to further improve. Participants also learn communication and presentation skills to prepare them for the showcase event.\n  Showcase Event: At the Showcase\, teaching teams present their units to key stakeholders for feedback and to foster authorship and ownership. Armed with these insights and approvals\, participants move on from this session\, ready to implement their units in the next term\n  Workshops Will Be Held On The Following Dates\n 1. Thursday 7 June 2018 (Glenelg Golf Club)\n2. Friday 8 June 2018 (SMART School)\n 3. Monday 13 August 2018 (SMART School)\n 4. Monday 17 September 2018 (SMART School)\n 5. Wednesday 28 November 2018\, STEM Showcase (Venue TBA)\n\n Core FOCI And Priorities\n1. STEM\n2. Leading Whole School Change\n3. Integration of Curriculum\n\n  AITSL National Professional Standards For Teachers Include\nStandard 1: Know students and how they learn (1.2)\n Standard 2: Plan for and implement effective teaching and learning (2.2\, 2.3)\n Standard 3: Plan for and implement effective teaching and learning (3.2)\n  Intended For\n Middle Years Leaders and Teachers who teach Science\, Mathematics and / or Technologies\n  Facilitators\n Education Changemakers and CESA Learning & Technologies Team\n\n  Workshop Enquiries\nmelanie.oleary@cesa.catholic.edu.au / T: 8301 6820\n  Registration Enquiries\n adeline.mcloughlin@cesa.catholic.edu.au\n
DTSTAMP:20260424T172657Z
END:VEVENT
END:VCALENDAR
