BEGIN:VCALENDAR
VERSION:2.0
METHOD:PUBLISH
BEGIN:VEVENT
UID:WILD_APRICOT_EVENT_2800966_SESSION_1
DTSTART:20180315T223000Z
DTEND:20180316T020000Z
SUMMARY:Presentation for Research Project - Pathways to Success for Senior Secondary Students with Refugee Experience
LOCATION:Glenelg Golf Club\, James Melrose Road\, Novar Gardens SA
DESCRIPTION:https://registrationcentre.cesa.catholic.edu.au/event-2800966\n\nPresentation of Research Project -\n Pathways to Success for Senior Secondary Students\n with Refugee Experience\n  Last day to register: Monday 12 March 2018 \n\n  From 2015-17 CESA and Unisa undertook a collaborative research project to gather experience\, knowledge and advice regarding effective approaches to supporting recently arrived students with refugee backgrounds who were engage with the SACE.\n\n  This half day session will present the research findings of this project  and engage leaders of learning with processes and strategies to examine and enhance practices in schools aimed at enabling students with refugee experience to pursue successful 'pathways' through the SACE. This will be presented to Principals\, SACE coordinators and EAL coordinators on Friday 16 March 2018.\n \n This symposium will be of value to any school supporting students with refugee experience in the senior secondary years. \n  Times and Location\n Friday 16 March 2018\n 9.00am - 12.30\n Glenelg Golf Club\n James Melrose Road\, Novar Gardens  SA                   \n  AITSL NATIONAL PROFESSIONAL STANDARDS FOR TEACHERS INCLUDE:\n Standard 5 - Assess\, provide feedback and report on student learning\n      5.1 Assess student learning\n       5.4 Interpret student data\n Standard 6 - Engage in professional learning\n       6.3 Engage with colleagues and improve practice\n \n INTENDED FOR:\nPrincipals\, SACE coordinators and EAL coordinators\n  Cost: no fee\n\n  Catering: morning tea will be  provided\n\n  \n For Further Information regarding registration:\nChris Virgin\n chris.virgin@cesa.catholic.edu.au\n 8301 6851\n
DTSTAMP:20260424T155355Z
END:VEVENT
END:VCALENDAR
