BEGIN:VCALENDAR
VERSION:2.0
METHOD:PUBLISH
BEGIN:VEVENT
UID:WILD_APRICOT_EVENT_2758889_SESSION_1
DTSTART:20180312T223000Z
DTEND:20180313T053000Z
SUMMARY:Using the Curriculum to Develop Capable Learners An Orientation to the General Capabilities
LOCATION:Grange Golf Club
DESCRIPTION:https://registrationcentre.cesa.catholic.edu.au/event-2758889\n\nUsing the Curriculum to Develop Capable Learners\n  An Orientation to the General Capabilities\n  This workshop will provide an opportunity to explore:\n      * OECD Competencies and the General Capabilities\n\n        * the intent\, purpose and practical application of the General Capabilities in the Australian Curriculum\n\n        * possibilities and implications for primary and middle years learners and school communities\n\n  FACILITATED BY\n  Inclusion and Learning Team and Danielle Cavanagh\, ACARA General Capabilities Specialist\n  DETAILS\n  Tuesday 13 March  2017\n  Grange Golf Club 9am – 4 pm\n  Morning tea and lunch will be provided\n  INTENDED FOR\n  School leaders and leaders of learning\n  CONTACT DETAILS\n  Mary Carmody on 8301 6643 or mary.carmody@cesa.catholic.edu.au or\n  Marianne Farrugia on 83016147 or marianne.farrugia@cesa.catholic.edu.au\n  REGISTRATION CLOSED: Tuesday\, 27 February 2018\, 9.00am\n  FOR CESA REGISTRATION INQUIRY\n  Please contact ria.wong@cesa.catholic.edu.au\n  \n\n  \n\n
DTSTAMP:20260424T172604Z
END:VEVENT
END:VCALENDAR
