BEGIN:VCALENDAR
VERSION:2.0
METHOD:PUBLISH
BEGIN:VEVENT
UID:WILD_APRICOT_EVENT_2753313_SESSION_1
DTSTART:20180308T223000Z
DTEND:20180309T053000Z
SUMMARY:Engage with Asia: leading innovation and pedagogical change
LOCATION:To be confirmed
DESCRIPTION:https://registrationcentre.cesa.catholic.edu.au/event-2753313\n\nEngage with Asia: leading innovation and pedagogical change\n  Network\, 2018 - 2020\n\n\n  NETWORK FOCUS\n  The network will focus on the development of models of effective school partnerships with leadership and pedagogical collaboration between CESA schools and schools in Asia\, with particular attention being given to the inclusion of regional schools and schools in China.\n\n  The network will focus on the online collaborative co-construction of curriculum pedagogical strategies and the development of capabilities including intercultural and ethical understanding\, creative and critical thinking and ICT's capabilities.\n  Further information\n\n  NETWORK MEETING TIME\nFriday\, 09 March 2018\n Further meeting dates will be negotiated with each individual school\n  Location: Venue to be confirmed closer to the date\n  Last day to register: Friday 02 March 2018                      \n\n  AITSL NATIONAL PROFESSIONAL STANDARDS FOR TEACHERS INCLUDE:\n Standard 5 - Assess\, provide feedback and report on student learning\n      5.1 Assess student learning\n       5.4 Interpret student data\n Standard 6 - Engage in professional learning\n       6.3 Engage with colleagues and improve practice\n \n INTENDED FOR:\nEducators with responsibility for leading the implementation of innovative and creative strategies that address engagement with Asia across the school.\n Educators with responsibility over the languages and cultures curriculum. \n  Cost: no fee\n\n  Catering: morning tea and lunch will be  provided\n \n\n  FACILITATOR:\n Leading Learning Consultant\n\n For Further Information regarding registration:\nChris Virgin\n chris.virgin@cesa.catholic.edu.au\n 8301 6851\n
DTSTAMP:20260424T154331Z
END:VEVENT
END:VCALENDAR
