BEGIN:VCALENDAR
VERSION:2.0
METHOD:PUBLISH
BEGIN:VEVENT
UID:WILD_APRICOT_EVENT_2741269_SESSION_1
DTSTART:20171123T223000Z
DTEND:20171211T063000Z
SUMMARY:Learning Improvement Inquiry 2018-19 Expressions of Interest
LOCATION:Expression of interest
DESCRIPTION:https://registrationcentre.cesa.catholic.edu.au/event-2741269\n\nLearning Improvement Inquiry 2018-19 Expressions of Interest\n  Learning Improvement Inquiry 2018-19 \n  “How can we co-construct learning with and for flourishing and capable learners?”\n  Expressions of Interest by Monday December 11\, 2017\n  Please note only one school representative needs to register. Schools will be contacted for names of further personnel after selection has occurred.\n  PROJECT DESCRIPTION\n  This action research inquiry project provides an opportunity for schools to investigate pedagogies and curriculum design which focus on student agency and capabilities to enable all students to be successful learners.\n  Schools inquiry teams will develop an action research inquiry within the project question ‘How can we co-construct learning with and for flourishing and capable learners?’\n  School inquiry teams will participate in 6 seminar days over the two year period as well as commit to working with Inclusion and Learning Consultants to support their inquiry. Professional partnerships will include Danielle Cavanagh\, ACARA Curriculum Specialist\, General Capabilities.\n  PROJECT STRUCTURE\n      * Four seminar days for all members of school teams in Term 1 and Term 3\, 2018 and Term 1 2019.\n\n        * An action research inquiry\n\n        * School visits with the Inclusion and Learning team consultants in Term 2 and 3\, 2018 and Term 2 2019.\n\n        * Participation in a mid-point inquiry showcase day (Term 4\, 2018)\n\n        * Participation in an end-of-inquiry showcase day (Term 3\, 2019)\n\n        * There will be a possibility of a third year option for schools wishing to continue their inquiry.\n\n  INTENDED FOR\n  School teams of leaders of learning\, teachers\, and ideally the Principal or Deputy Principal in Primary\, Middle and Secondary schools\n  CONTACT DETAILS\n  For further information on the learning improvement inquiry please follow this link.  To discuss further please contact Mary Carmody on 8301 6643 or mary.carmody@cesa.catholic.edu.au\, Marianne Farrugia on 83016147 or marianne.farrugia@cesa.catholic.edu.au \, or Leone Coorey on 83016683 or leone.coorey@cesa.catholic.edu.au\n  FOR CESA REGISTRATION INQUIRY\n  Please contact ria.wong@cesa.catholic.edu.au\n   \n  \n\n
DTSTAMP:20260424T154525Z
END:VEVENT
END:VCALENDAR
