BEGIN:VCALENDAR
VERSION:2.0
METHOD:PUBLISH
BEGIN:VEVENT
UID:WILD_APRICOT_EVENT_2734520_SESSION_1
DTSTART:20180531T233000Z
DTEND:20180604T063000Z
SUMMARY:Moderation of EAL - Assessment (Levelling) for 2018 Data Collection process
LOCATION:Catholic Education Conference Centre\, 116 George Street\, Thebarton
DESCRIPTION:https://registrationcentre.cesa.catholic.edu.au/event-2734520\n\nModeration of EAL - Assessment (Levelling) \n for 2018 Data Collection Process \n  \n Last Day to Register: Monday 28 May 2018\n\n   COURSE DESCRIPTION\n\n  To be considered for support from the CESA EAL Program in 2019\, schools will need to submit data indicating the numbers of EAL students enrolled and their level of need\, assessed using the Language and Literacy Levels.  To ensure consistency across schools in the interpretation of levels and level decisions\, schools must ensure that teachers assessing student texts have attended at least one of the following moderation days.\n  COURSE INFORMATION\n When: \n Term 2 - Friday 01 June 2018\, 9.00am - 4.00pm \n                    Monday 04 June 2018\, 9.00am - 4.00pm \n                                            \nLocation: Catholic Education Conference Centre - Rooms 7 & 8\n                       116 George Street\, Thebarton\n                        \n A maximum of 45 participants for each workshop\n  CORE FOCI AND PRIORITIES\nEAL learners\n \n AITSL NATIONAL PROFESSIONAL STANDARDS FOR TEACHERS INCLUDE:\n Standard 5 - Assess\, provide feedback and report on student learning\n      5.1 Assess student learning\n       5.4 Interpret student data\n Standard 6 - Engage in professional learning\n       6.3 Engage with colleagues and improve practice\n \n INTENDED FOR:\nEAL specialist teachers\, classroom teachers and subject teachers who are involved in the leveling of EAL student writing samples and the EAL data collection process in their school.\n  PROGRAM OUTLINE:\n      * Overview of the data collection process\n\n        * Clarifying sessions - Levels\n\n        * Individual leveling\n\n  IMPORTANT NOTES:\nParticipants must bring their student work samples\, hard or electronic copy of the Language and Literacy Levels and relevant stationery. In consideration of others\, participants are reminded that during individual levelling time noise is to be kept to a minimum.\n \n Cost: no workshop fee\n  Catering: morning tea and lunch will be  provided\n\n  FACILITATOR:\n Leading Learning Consultant \n\n For Further Information regarding registration:\nChris Virgin\n chris.virgin@cesa.catholic.edu.au\n 8301 6851\n
DTSTAMP:20260424T172445Z
END:VEVENT
END:VCALENDAR
