BEGIN:VCALENDAR
VERSION:2.0
METHOD:PUBLISH
BEGIN:VEVENT
UID:WILD_APRICOT_EVENT_2725152_SESSION_1
DTSTART:20171121T223000Z
DTEND:20171122T000000Z
SUMMARY:Composing Written Science Texts for Years 7-10
LOCATION:Catholic Education Office\, 116 George St\, Thebarton - Room 7
DESCRIPTION:https://registrationcentre.cesa.catholic.edu.au/event-2725152\n\nComposing Written Science Texts for Years 7-10 \n  \n Last Day to Register: Thursday 16 November 2017\n\n   WORKSHOP DESCRIPTION\n\n  Composing Written Science Texts - Australian Curriculum: Science 7-10 is a resource to support teachers of Science and STEM in designing and embedding the text structures and grammar of Science writing into Science learning.\n Science teachers are responsible for teaching the language and literacy of Science and this resource provides model texts\, annotated texts\, genre frameworks and grammar resources to enable students to become successful writers of Science test types (genres). It identifies the structures and grammar elements of a practical investigation report\, argument\, discussion\, explanation\, information report\, extended response and a source analysis for the respective year levels. Suggested classroom activities incorporate a student-centred pedagogy\, involving collaboration and provide teachers with support for analysing and deconstructing texts. \n The topics are aligned to the Australian Curriculum Science content and the Australian Curriculum English Language content.\n Through this workshop participants will have opportunities to examine the contents of the book and consider its use in scaffolding Science teaches to teach the language and literacy of Science.\n  COURSE INFORMATION\n When:  Wednesday 22 November 2017\, 9.00am - 10.30pm                        \nLocation: Catholic Education Office\, 116 George St\, Thebarton - Room 7\n                        \n A maximum of 32 participants for each workshop\n  CORE FOCI AND PRIORITIES\nThe Literacy & Language of Science\n \n AITSL NATIONAL PROFESSIONAL STANDARDS FOR TEACHERS INCLUDE:\n Standard 2 - Know the content and how to teach it\nStandard 3 - Plan for and implement effective teaching and learning\nStandard 6 - Engage in professional learning\n   INTENDED FOR:\nAll Science and STEM teachers\n  PROGRAM OUTLINE:\nAs Above\n  IMPORTANT NOTES:\nPlease bring a WiFi enabled laptop or tablet/iPad.\nCost: no workshop fee\n  Catering: morning tea will be  provided\n  FACILITATOR:\n Consultants - Maria Davis & Annette Lamont\n\n For Further Information regarding registration:\nChris Virgin\n chris.virgin@cesa.catholic.edu.au\n 08 8301 6851\n
DTSTAMP:20260424T190743Z
END:VEVENT
END:VCALENDAR
