BEGIN:VCALENDAR
VERSION:2.0
METHOD:PUBLISH
BEGIN:VEVENT
UID:WILD_APRICOT_EVENT_2723766_SESSION_1
DTSTART:20171121T223000Z
DTEND:20171122T000000Z
SUMMARY:The First Years of School Literacy Assessment Tool
LOCATION:Catholic Education Office\, 116 George St\, Thebarton - Room 6
DESCRIPTION:https://registrationcentre.cesa.catholic.edu.au/event-2723766\n\nThe First Years of School Literacy Assessment Tool \n  \n Last Day to Register: Thursday 16 November 2017\n\n   WORKSHOP DESCRIPTION\n\n  This new digital tool replaces the Early Years Assessment tool (Cebase) and provides users with significant efficiencies\, saving time and maximizing opportunities for data analysis.  A fewer number of assessment tasks are required to be administered over a child's 1st\, 5th and 9th terms of school. Assessment tasks reflect a developmental progression from Reception through to Year 2. \n The tool enables classroom teachers to enter data for each child thus encouraging them to administer the assessment tasks as part of core classroom practices.\n The tool provides a graphic representation of each cohort of children for each task\, enabling school-wide analysis and monitoring of each child's progress.\n As student background data and class lists are populated by CESIS teachers need only enter each child's raw score.\n The workshop will provide teachers and literacy leaders with opportunities to examine the tool and explore its potential to generate data to inform teaching design and school improvement planning.\n  COURSE INFORMATION\n When:  Wednesday 22 November 2017\, 9.00am - 10.30pm                        \nLocation: Catholic Education Office\, 116 George St\, Thebarton - Room 6\n                        \n A maximum of 40 participants for each workshop\n  CORE FOCI AND PRIORITIES\n First Years of School Literacy Assessment\n  AITSL NATIONAL PROFESSIONAL STANDARDS FOR TEACHERS INCLUDE:\n Standard 2 - Know the content and how to teach it\nStandard 3 - Plan for and implement effective teaching and learning\nStandard 6 - Engage in professional learning\n  INTENDED FOR:\nLiteracy leaders and R-2 classroom teachers\n  PROGRAM OUTLINE:\n As Above\n  IMPORTANT NOTES:\n Please bring a WiFi enabled laptop or table/iPad\nCost: no workshop fee\n  Catering: morning tea  will be  provided\n  FACILITATOR:\n Consultant - Fiona Callaghan\n\n For Further Information regarding registration:\nChris Virgin\n chris.virgin@cesa.catholic.edu.au\n 08 8301 6851\n
DTSTAMP:20260424T172429Z
END:VEVENT
END:VCALENDAR
