BEGIN:VCALENDAR
VERSION:2.0
METHOD:PUBLISH
BEGIN:VEVENT
UID:WILD_APRICOT_EVENT_2723726_SESSION_1
DTSTART:20171122T003000Z
DTEND:20171122T020000Z
SUMMARY:The EAL Website and online professional learning resources 2017
LOCATION:Catholic Education Office\, 116 George St\, Thebarton - Room 7
DESCRIPTION:https://registrationcentre.cesa.catholic.edu.au/event-2723726\n\nThe EAL Website and online professional learning resources \n  \n Last Day to Register: Thursday 16 November 2017\n\n   WORKSHOP DESCRIPTION\n\n  The website provides valuable information and resources to support schools\, leaders and teachers in communities where there are recently arrived migrants from non-English speaking backgrounds\, including those with refugee experience.  \n The website is also a 'gateway' to a range of professional learning modules designed to assist teachers plan and teach for the Literacy capability and English language learning.\n  COURSE INFORMATION\n When:  Wednesday 22 November 2017\, 11.00am - 12.30pm                        \nLocation: Catholic Education Office\, 116 George St\, Thebarton - Room 7\n                        \n A maximum of 30 participants for each workshop\n  CORE FOCI AND PRIORITIES\nEAL learners\n \n AITSL NATIONAL PROFESSIONAL STANDARDS FOR TEACHERS INCLUDE:\n Standard 2 - Know the content and how to teach it\nStandard 3 - Plan for and implement effective teaching and learning\nStandard 6 - Engage in professional learning\n   INTENDED FOR:\nAll key teachers and classroom teachers who have EAL students in their school. \n  PROGRAM OUTLINE:\n      * The purpose of the site\n\n        * What it offers\n\n        * General overview\n\n        * How to find it - opportunity for Exploration\n\n        * Future developments\n\n        * Potential use: How might you use this with your colleagues to promote learning?\n\n        * Receive a promotional poster for sharing with colleagues\n\n  IMPORTANT NOTES:\nPlease bring a WiFi enabled laptop or tablet/iPad.\nCost: no workshop fee\n  Catering: lunch will be  provided\n  FACILITATOR:\n Consultant - Chris Payne\n\n For Further Information regarding registration:\nChris Virgin\n chris.virgin@cesa.catholic.edu.au\n 08 8301 6851\n
DTSTAMP:20260424T154231Z
END:VEVENT
END:VCALENDAR
