BEGIN:VCALENDAR
VERSION:2.0
METHOD:PUBLISH
BEGIN:VEVENT
UID:WILD_APRICOT_EVENT_2715729_SESSION_1
DTSTART:20180222T223000Z
DTEND:20180223T050000Z
SUMMARY:Understanding by Design Leaders Network – Continuing Schools Only
LOCATION:Conference room\, Glenelg Golf Club\, James Melrose Road\, Novar Gardens
DESCRIPTION:https://registrationcentre.cesa.catholic.edu.au/event-2715729\n\nUnderstanding by Design Leaders– Continuing Schools Only\n  \n  DESCRIPTION\n  Schools who participated in the Understanding by Design Leader’s Network in 2017 are invited to continue their learning in 2018 by participating in an advanced professional learning day on February 23\, 2018 facilitated by Anna Bennett\, Solutions Tree Australia. This day will focus on Stage 2 of Understanding by Design – Designing for Assessment Evidence.\n  Leaders/teachers of continuing schools may be interchanged if necessary\, however all participants must have had professional learning with the UBD framework as a prerequisite.\n  PROFESSIONAL LEARNING DAY\n  February 23 9am - 3:30pm\n  Conference Room\, Glenelg Golf Club\n  James Melrose Road\n  Novar Gardens\n  Morning Tea and Lunch provided\n  CONTACT DETAILS\n  For further information contact Marianne Farrugia\, Australian Curriculum Consultant on 8301 6147. \n  CLOSING DATE: 9 February 2018\, 9.00am\n  FOR REGISTRATION INQUIRY\n  Ria Wong on 8301 6618 or ria.wong@cesa.catholic.edu.au\n   \n
DTSTAMP:20260424T172314Z
END:VEVENT
END:VCALENDAR
