BEGIN:VCALENDAR
VERSION:2.0
METHOD:PUBLISH
BEGIN:VEVENT
UID:WILD_APRICOT_EVENT_2498835_SESSION_1
DTSTART:20170403T040000Z
DTEND:20170403T053000Z
SUMMARY:F-10 Australian Curriculum Understanding by Design Leaders Network Meeting - April Session 1
LOCATION:Glenelg Golf Club\, James Melrose Road\, Novar Gardens
DESCRIPTION:https://registrationcentre.cesa.catholic.edu.au/event-2498835\n\n\n\n  CANCELLED\n  Please contact Marianne Farrugia for more information on 8301 6147\n  F-10 Australian Curriculum Understanding by Design Leaders Network Meeting\n\n  Members of the Understanding by Design Leaders Network are invited to gather and engage in professional dialogue in order to support implementation of the Understanding by Design framework.\n  Jill Kehoe\, who has co-led the implementation of Understanding by Design at Tenison Woods Catholic School\, Richmond\, will attend the sessions in order to share her experiences of embedding the framework across the school.\n  Coffee/tea and light refreshment will be available.\n  Network members will require the registration code for this session (sent via email) to process registration.\n  For further information please contact Marianne Farrugia\, Australian Curriculum Consultant on 8301 6147\n
DTSTAMP:20260424T172752Z
END:VEVENT
END:VCALENDAR
