BEGIN:VCALENDAR
VERSION:2.0
METHOD:PUBLISH
BEGIN:VEVENT
UID:WILD_APRICOT_EVENT_2491181_SESSION_1
DTSTART:20171010T223000Z
DTEND:20171011T050000Z
SUMMARY:Day 2: Progressing from Graduate to Proficient Teacher workshop (TRB requirements)
LOCATION:Catholic Education Office\, Room 6\, 116 George Street\, Thebarton
DESCRIPTION:https://registrationcentre.cesa.catholic.edu.au/event-2491181\n\nIn this workshop teachers will:\n        * network with one another to critically analyse evidence collected to ensure all standards are addressed\n\n        * identify areas for further development in their practice and set goals for addressing these needs\n\n        * revisit the process for applying for full registration\n\n        * write a reflection to seek the Principal’s endorsement\n\n        * be informed of the certification process for Highly Accomplished and Lead Teacher\n\n    Morning tea and Lunch will be provided\n  REGISTRATION CLOSED: Wednesday\, 4 October 2017\n  CONTACT DETAILS  \n\n  Email: adrian.dilger@cesa.catholic.edu.au\nPhone: 8301 6138\n  REGISTRATION ENQUIRIES\n  Email: ria.wong@cesa.catholic.edu.au\n Phone: 8301 6618\n
DTSTAMP:20260424T172738Z
END:VEVENT
END:VCALENDAR
