BEGIN:VCALENDAR
VERSION:2.0
METHOD:PUBLISH
BEGIN:VEVENT
UID:WILD_APRICOT_EVENT_2491178_SESSION_1
DTSTART:20170417T233000Z
DTEND:20170418T060000Z
SUMMARY:Day 1: Progressing from Graduate to Proficient Teacher workshop (TRB requirements)
LOCATION:Catholic Education Office\, Room 7\, 116 George Street\, Thebarton
DESCRIPTION:https://registrationcentre.cesa.catholic.edu.au/event-2491178\n\nIn this workshop teachers will:\n      * explore the process for applying for full registration\n\n        * unpack the Australian Professional Standards for Teachers\; structure\, lexical patterns\, overall theme of each standard and the types of evidence that may illustrate each standard as a whole\n\n        * use the Australian Professional Standards for Teachers to identify strengths\, challenges and set personal goals for improvement\n\n        * explore and share opportunities for collecting\, annotating and documenting evidence to create their portfolios. \n\n  CONTACT DETAILS  \n\n  Email: adrian.dilger@cesa.catholic.edu.au\nPhone: 8301 6138\n  REGISTRATION ENQUIRIES\n  Email: joanne.Watson@cesa.catholic.edu.au\n Phone: 8301 6641\n
DTSTAMP:20260424T154458Z
END:VEVENT
END:VCALENDAR
