BEGIN:VCALENDAR
VERSION:2.0
METHOD:PUBLISH
BEGIN:VEVENT
UID:WILD_APRICOT_EVENT_2378119_SESSION_1
DTSTART:20161205T223000Z
DTEND:20161206T050000Z
SUMMARY:The Next Iteration of Schooling: A Conversation with Colleagues
LOCATION:Education Development Centre (EDC) Milner Street\, Hindmarsh
DESCRIPTION:https://registrationcentre.cesa.catholic.edu.au/event-2378119\n\nThe Next Iteration of Schooling:\n   A Conversation with Colleagues\n    \n Last Day to Register: Wednesday 30 November 2016\n  \n  COURSE DESCRIPTION\n The Literacy\, Languages and Learning team on behalf of the Catholic Education Office is pleased to invite Principals and leaders of learning to participate in a conversation with Paul Meldrum from Catholic Education\, Diocese of Parramatta. Paul is currently working as Head of Learning innovations and offers expertise in three critical areas of leading learning\, school design and technology systems. Paul will draw on his experience at the Diocese of Parramatta to host a structured conversation with Principals and leaders of learning in South Australian Catholic schools and CEO consultants on the experience of working together to lead change.\n  COURSE INFORMATION\nTuesday 06 December 2016\, 9.00am - 3.30pm\n (8.30am Registration for 9.00am sharp start)                                \nEducation Development Centre (EDC)\n  Milner Street\, Hindmarsh\n                          \n A maximum of 40 participants available\n  CORE FOCI AND PRIORITIES\nQuality teaching\, leadership\, effective use of data\, strong school learning cultures\nAITSL NATIONAL PROFESSIONAL STANDARDS FOR TEACHERS INCLUDE:\nAddresses all AITSL Standards 1 - 7\nINTENDED FOR:\nPrincipals\, School Leaders and Members of Partnerships for School Improvement Networks\n  PROGRAM OUTLINE:\nThe day with Paul will proved opportunity to reflect on: \n      *             how our schools have framed the work of leading learning for the next few years        \n\n        *             the narratives we are building        \n\n        *             the strategies we are implementing        \n\n        *             the enablers we put in place and how we measure their performance        \n\n  The day will be organized in three sessions:\n      *             Session 1: 'Framing the work - from Improvement to Transformation' followed by a facilitated thinking/reflection/feedback session        \n\n        *             Session 2: 'Designing for Learning' followed by a facilitated thinking/reflection/feedback session        \n\n        *             Session 3:  Q & A Panel - what's still challenging your thinking?        \n\n     Cost: no workshop fee - No TRT provided   Catering: morning tea and lunch will be  provided\n \n  FACILITATOR:\n Paul Nicholas Meldrum and Edgar Bliss\n\n For Further Information regarding registration:\nChris Virgin\n chris.virgin@cesa.catholic.edu.au\n 8301 6851\n
DTSTAMP:20260424T154629Z
END:VEVENT
END:VCALENDAR
