BEGIN:VCALENDAR
VERSION:2.0
METHOD:PUBLISH
BEGIN:VEVENT
UID:WILD_APRICOT_EVENT_2341354_SESSION_1
DTSTART:20161117T223000Z
DTEND:20161118T053000Z
SUMMARY:Little Scientists Workshop #1: Experimenting with Water
LOCATION:Rooms 7 & 8 Catholic Education Office\, 116 George Street\, Thebarton
DESCRIPTION:https://registrationcentre.cesa.catholic.edu.au/event-2341354\n\nLITTLE SCIENTISTS WORKSHOP #1\n  Experimenting with Water\n  Friday 18th November 2016\n\n  9:00am - 4:00pm\n  Room 7\, Catholic Education Office\,\n 116 George Street\, Thebarton\n  AIMS OF THE WORKSHOP:\n      * To explore water with all your senses\n\n\n        * To enhance scientific knowledge of the phenomena of water\n\n\n        * To develop a learning culture of inquiry-based scientific exploration\n\n\n        * To lead the practice of others\n\n\n  FOR:\n      * Early years teachers and preschool teachers\n\n        * Early years and OSHC educators\n\n  AITSL STANDARDS:\n  2.3     Curriculum\, assessment and reporting\n 3.2     Plan\, structure and sequence learning programs\n 6.4     Apply professional learning and improve student learning\n  NATIONAL QUALITY STANDARD:\n  1.1.6  Each child’s agency is promoted\, enabling them to make choices and decisions and to influence events and their world \n  Please ensure you register by Monday 14th November 2016\n  Morning tea will be provided - please bring your lunch!\n  Please keep a copy of your registration confirmation for your professional portfolio. \n\n  Cost: $110 per participant\n\n  For further information\, please contact\n Barbara Murray on 8301 6101 or barbara.murray@cesa.catholic.edu.au\n
DTSTAMP:20260424T172555Z
END:VEVENT
END:VCALENDAR
