BEGIN:VCALENDAR
VERSION:2.0
METHOD:PUBLISH
BEGIN:VEVENT
UID:WILD_APRICOT_EVENT_2247645_SESSION_1
DTSTART:20160613T230000Z
DTEND:20160614T070000Z
SUMMARY:Connecting Quality Teaching Rounds to the Continuous Improvement Framework
LOCATION:Glenelg Golf Club - James Melrose Rd\, Novar Gardens
DESCRIPTION:https://registrationcentre.cesa.catholic.edu.au/event-2247645\n\nConnecting Quality Teaching Rounds\n to the Continuous Improvement Framework\n  \n Last Day to Register: Tuesday 07 June 2016\n \n\n  COURSE DESCRIPTION\n This is an opportunity for school Principals\, leaders and members of the Partnerships for School Improvement Networks to work with Professor Jennifer Gore. This will be a full day workshop where Professor Gore will speak about her work with the NSW Department of Education. In this work Professor Gore has been instrumental in developing the Quality Teaching model. Professor Gore will engage participants in practical activities that connect the Quality Teaching model to the CESA Continuous Improvement Framework and the AITSL Standards. She will also outline how she has further developed this work through her Quality Teaching Rounds approach.\n  COURSE INFORMATION\nTuesday 14 June 2016\, 8.30am - 4.30pm\n (8.30am Registration for 9.00am sharp start)                                \nGlenelg Golf Club - Dining Room\n James Melrose Rd\, Novar Gardens\n                        \n A maximum of 80 participants available\n  CORE FOCI AND PRIORITIES\nQuality teaching\, leadership\, effective use of data\, strong school learning cultures\nAITSL NATIONAL PROFESSIONAL STANDARDS FOR TEACHERS INCLUDE:\nAddresses all AITSL Standards 1 - 7\n \n INTENDED FOR:\nPrincipals\, School Leaders and Members of Partnerships for School Improvement Networks\n  PROGRAM OUTLINE:\nConnect Quality Teaching model to: \n      * Continuous Improvement Framework\n\n        * AITSL Standards\n\n     Engagement with Quality Teaching Rounds      \n   IMPORTANT NOTES:\nParticipants in this day will help leaders to decide to further engage with a two day training in this model.\n This training will likely be held in Term 3.\n \n Cost: no workshop fee - No TRT provided\n  Catering: morning tea and lunch will be  provided\n\n  \n\n  FACILITATOR:\n Professor Jennifer Gore and Edgar Bliss\n\n For Further Information regarding registration:\nChris Virgin\n chris.virgin@cesa.catholic.edu.au\n 8301 6851\n
DTSTAMP:20260424T185753Z
END:VEVENT
END:VCALENDAR
