BEGIN:VCALENDAR
VERSION:2.0
METHOD:PUBLISH
BEGIN:VEVENT
UID:WILD_APRICOT_EVENT_2185065_SESSION_1
DTSTART:20160403T233000Z
DTEND:20160404T063000Z
SUMMARY:Little Scientists Program 2016 (session 1 of 2)
LOCATION:Catholic Education Office Conference Centre
DESCRIPTION:https://registrationcentre.cesa.catholic.edu.au/event-2185065\n\n         \n\n  Little Scientists Program 2016\n  For schools with Reception classes\, preschools\, long day care services or occasional care services\n  Cost:\n      * $145 per workshop per participant or $245 for two attendees from the same centre.\n\n        * The invoice will be sent to school after each workshops.\n\n  In partnership with 'Little Scientist' Australia\, CESA will support schools/centres to begin implementation of the Little Scientist program in 2016.\n  Little Scientists has been designed to facilitate children's curiosity for science\, technology\, engineering and mathematics through age-appropriate\, fun and playful experiments in their early years.\n  Register one or two teachers/educators who work with children 3-6 and will implement the program at your school/centre for attendance at both workshops:\n      * Experimenting with Water workshop - April 4\n   CEO Conference Centre\, Room 6\n\n        * Experimenting with Air workshop - August 29\n   CEO Conference Centre\, Room 8\n\n      All workshops will be held at CESA Conference Centre\, 9.00am - 4.00pm. Morning tea provided. BYO lunch or purchase nearby in the lunch break. Please wear comfortable clothing.      \n      Please note that the car park onsite is not available for workshop attendees. Instead please park at Queen of Angels car park.      \n      AITSL AUSTRALIAN PROFESSIONAL STANDARDS FOR TEACHERS INCLUDE      2.3 Curriculum\, assessment and reporting      3.2 Plan\, structure and sequence learning programs      6.4 Apply professional learning and improve student learning      \n      COURSE INFORMATION      Workshop facilitator is Marianne Farrugia. marianne.farrugia@cesa.catholic.edu.au      \n      REGISTRATION CLOSED: Monday\, 28 March (4.00pm)      If you have any inquiry regarding registration please contact ria.wong@cesa.catholic.edu.au      \n      \n 
DTSTAMP:20260424T154221Z
END:VEVENT
BEGIN:VEVENT
UID:WILD_APRICOT_EVENT_2185065_SESSION_2
DTSTART:20160828T233000Z
DTEND:20160829T063000Z
SUMMARY:Little Scientists Program 2016 (session 2 of 2)
LOCATION:Catholic Education Office Conference Centre
DESCRIPTION:https://registrationcentre.cesa.catholic.edu.au/event-2185065\n\n         \n\n  Little Scientists Program 2016\n  For schools with Reception classes\, preschools\, long day care services or occasional care services\n  Cost:\n      * $145 per workshop per participant or $245 for two attendees from the same centre.\n\n        * The invoice will be sent to school after each workshops.\n\n  In partnership with 'Little Scientist' Australia\, CESA will support schools/centres to begin implementation of the Little Scientist program in 2016.\n  Little Scientists has been designed to facilitate children's curiosity for science\, technology\, engineering and mathematics through age-appropriate\, fun and playful experiments in their early years.\n  Register one or two teachers/educators who work with children 3-6 and will implement the program at your school/centre for attendance at both workshops:\n      * Experimenting with Water workshop - April 4\n   CEO Conference Centre\, Room 6\n\n        * Experimenting with Air workshop - August 29\n   CEO Conference Centre\, Room 8\n\n      All workshops will be held at CESA Conference Centre\, 9.00am - 4.00pm. Morning tea provided. BYO lunch or purchase nearby in the lunch break. Please wear comfortable clothing.      \n      Please note that the car park onsite is not available for workshop attendees. Instead please park at Queen of Angels car park.      \n      AITSL AUSTRALIAN PROFESSIONAL STANDARDS FOR TEACHERS INCLUDE      2.3 Curriculum\, assessment and reporting      3.2 Plan\, structure and sequence learning programs      6.4 Apply professional learning and improve student learning      \n      COURSE INFORMATION      Workshop facilitator is Marianne Farrugia. marianne.farrugia@cesa.catholic.edu.au      \n      REGISTRATION CLOSED: Monday\, 28 March (4.00pm)      If you have any inquiry regarding registration please contact ria.wong@cesa.catholic.edu.au      \n      \n 
DTSTAMP:20260424T154221Z
END:VEVENT
END:VCALENDAR
