BEGIN:VCALENDAR
VERSION:2.0
METHOD:PUBLISH
BEGIN:VEVENT
UID:WILD_APRICOT_EVENT_2159565_SESSION_1
DTSTART:20160531T233000Z
DTEND:20160603T063000Z
SUMMARY:EAL - Assessment (Levelling) Moderation Days for 2016 Data Collection process
LOCATION:Civil Contractors Federation (CCF) - 1 South Road\, Thebarton
DESCRIPTION:https://registrationcentre.cesa.catholic.edu.au/event-2159565\n\nEAL - Assessment (Levelling) Moderation Days\n for 2016 Data Collection Process \n  \n Last Day to Register: Tuesday 24 May 2016\n WEDNESDAY 01 JUNE IS NOW FULL\n FRIDAY 03 JUNE SESSION IS NOW FULL\n   COURSE DESCRIPTION\n To be considered for support from the CESA EAL Program in 2017\, schools will need to submit data indicating the numbers of EAL students enrolled and their level of need\, assessed using the Language and Literacy Levels.  To ensure consistency across schools in the interpretation of levels and level decisions\, schools must ensure that teachers assessing student texts have attended at least one moderation day conducted by the EAL team. Data Collection process 2016.\n  COURSE INFORMATION\n When: \n Term 2 - Wednesday 01 June 2016\, 9.00am - 4.00pm \n                    Thursday 02 June 2016\, 9.00am - 4.00pm \n                     Friday 03 June 2016\, 9.00am - 4.00pm (NOW FULL)                                    \nLocation: Civil Contractors Federation (CCF)\n                        1 South Road\, Thebarton\n                        \n A maximum of 30 participants for each workshop\n  CORE FOCI AND PRIORITIES\nEAL learners\n \n AITSL NATIONAL PROFESSIONAL STANDARDS FOR TEACHERS INCLUDE:\n Standard 5 - Assess\, provide feedback and report on student learning\n      5.1 Assess student learning\n       5.4 Interpret student data\n Standard 6 - Engage in professional learning\n       6.3 Engage with colleagues and improve practice\n \n INTENDED FOR:\nEAL Network teachers\, classroom teachers and subject teachers who are involved in the leveling of EAL student work samples and EAL data collection process in their school.\n  PROGRAM OUTLINE:\n      * Overview of the data collection process\n\n        * Clarifying sessions - Levels\n\n        * Individual leveling\n\n  IMPRORTANT NOTES:\nParticipants must bring their student work samples including multiple copies if joint levelling\, hard or electronic copy of the Language and Literacy Levels and highlighter pens. In consideration of others\, participants are reminded that during individual levelling time noise is to be kept to a minimum.\n \n Cost: no workshop fee\n  Catering: morning tea and lunch will be  provided\n\n  FACILITATOR:\n EAL Consultants and EAL Cluster Coordinators\n\n For Further Information regarding registration:\nChris Virgin\n chris.virgin@cesa.catholic.edu.au\n 8301 6851\n
DTSTAMP:20260424T172414Z
END:VEVENT
END:VCALENDAR
