BEGIN:VCALENDAR
VERSION:2.0
METHOD:PUBLISH
BEGIN:VEVENT
UID:WILD_APRICOT_EVENT_2148424_SESSION_1
DTSTART:20160310T223000Z
DTEND:20160311T050000Z
SUMMARY:F-10 Australian Curriculum: Professional Networking Day for school and curriculum Leaders
LOCATION:Adelaide Sailing Club\, Barcoo Road\, West Beach
DESCRIPTION:https://registrationcentre.cesa.catholic.edu.au/event-2148424\n\nF-10 Australian Curriculum: Professional Networking Day for school and curriculum leaders\n  $50\n  The invoice will be sent to your school after the Networking Day\n  Moving towards moderation in the Australian Curriculum environment\n  COURSE DESCRIPTION\n  Moderation is an important process in the standards referenced environment of the Australia Curriculum. It enables the building of common understandings of the standards and consistency of teacher judgement in a community of practice.\n  The network day will feature a keynote presentation and workshop facilitated by Professor Val Klenowski\, Professor of Education at the Queensland University of Technology and an Adjunct Professor with the University of South Australia. Professor Klenowski has researched and written widely in the area of assessment.\n  Leaders will explore research and practice around using standards\, developing portfolios of student learning\, the position of teacher judgement and the use of moderation.\n\n  This is also an opportunity for schools to discuss progress and next steps in their implementation of the Australian Curriculum.\n  COURSE INFORMATION\n  Friday March 11th\n Adelaide Sailing Club\, Barcoo Road\, West Beach.\n Cost: $50 per participant\n Morning tea and lunch will be included\n  CORE FOCI AND PRIORITIES\n      * Research and practice in the changing nature of assessment in the Australian Curriculum environment\, including the role of achievement standards\, portfolios\, teacher judgement\, communities of practice and moderation\n\n        * Opportunities for the development of networks across schools as well as a chance to discuss progress\, next steps and innovative ideas in relation to the ongoing implementation of the Australian Curriculum: F-10\n\n     AITSL AUSTRALIAN PROFESSIONAL STANDARDS FOR TEACHERS INCLUDE      2.3 Curriculum\, assessment and reporting      3.2 Plan\, structure and sequence learning programs\n      6.4 Apply professional learning and improve student learning      INTENDED FOR:      Curriculum leaders with a responsibility for implementation of the Australian Curriculum F-10      PROGRAM OUTLINE\n   1 day 9am - 3.30pm      FACILITATOR      Marianne Farrugia\, CESA Australian Curriculum Consultant      SYSTEM ACCREDITED MODULE: No      REGISTRATION CLOSED: Friday 4 March (4.00pm)      If you have any inquiry regarding registration please contact:      Ria Wong\n   ria.wong@cesa.catholic.edu.au   \n\n
DTSTAMP:20260424T172628Z
END:VEVENT
END:VCALENDAR
