BEGIN:VCALENDAR
VERSION:2.0
METHOD:PUBLISH
BEGIN:VEVENT
UID:WILD_APRICOT_EVENT_2121421_SESSION_1
DTSTART:20160328T223000Z
DTEND:20160329T013000Z
SUMMARY:Scootle and Improve
LOCATION:Professional Learning Space
DESCRIPTION:https://registrationcentre.cesa.catholic.edu.au/event-2121421\n\nWORKSHOP DESCRIPTION\n  This half-day workshop provides an introduction to Scootle resources\, with a focus on browsing the Australian Curriculum content descriptions and elaborations in the fifteen F-10 learning areas.\n  Participants will use Improve (linked to Scootle) to access numeracy\, literacy and science test items digitally linked to relevant Scootle curriculum and learning resources.  \n  WORKSHOP INFORMATION\n  Participants will register with Scootle. Participants will review and select resources and explore strategies to differentiate content selections\, and add instructional design.\n  Participants will explore how to use Improve to capture evidence of students' achievements and to analyse the data to inform programs for classes and for individuals.\n  To assign to student tests in Improve\, participants will need to bring student information in the following fields:\n                  Given Name         Family Name        email - optional \n       \n            \n                          Session Date\n                        Time\n                        Max\n                        Venue\n                                  Tuesday 29th March 2016\n                        9am – 12pm\n                        15\n                        Catholic Education Office\n          Professional Learning Space\n          112 Kintore Street\n          Thebarton\n                  CORE FOCI AND PRIORITIES\n  Scootle\, Improve and Australian Curriculum\n  AITSL NATIONAL PROFESSIONAL STANDARDS FOR TEACHERS INCLUDE\n  Standard 2:   Know the content and how to teach it (2.6)\nStandard 3:   Plan for and implement effective teaching and learning (3.4)\n  INTENDED AUDIENCE:\n  Teachers of students from year 2 to year 9 \n  TOTAL HOURS:  3 hours\n  FACILITATOR: Anne De Nicolo\, Learning & Technologies Consultant\, CESA\n  SYSTEM ACCREDITED MODULE:  NO\n  CONTACT DETAILS\n  Registration inquiries Joanne Watson\njoanne.watson@cesa.catholic.edu.au\n
DTSTAMP:20260424T153914Z
END:VEVENT
END:VCALENDAR
