BEGIN:VCALENDAR
VERSION:2.0
METHOD:PUBLISH
BEGIN:VEVENT
UID:WILD_APRICOT_EVENT_2100344_SESSION_1
DTSTART:20160228T223000Z
DTEND:20160308T053000Z
SUMMARY:EAL - Assessment for Learning Using the Language and Literacy Levels - 2 Day Workshop - Term 1\, 2016 (session 1 of 2)
LOCATION:Catholic Education Conference Centre\, 116 George Street\, Thebarton
DESCRIPTION:https://registrationcentre.cesa.catholic.edu.au/event-2100344\n\nEAL\n \n Assessment for Learning Using the Language and Literacy Levels - 2 Day Workshop - Term 1\, 2016\n  Last Day to Register: Wednesday 24February 2016\n  COURSE DESCRIPTION\n The Language and Literacy Levels across the Australian Curriculum: EALD students is the tool used by teachers of EAL learners to assess and plan for their language and literacy development. The Levels provide detailed information about students' written and oral language development which can be used for assessment and programming purposes for all students.\n  COURSE INFORMATION\n          Participants are required to attend both sessions\n When:         Day 1 - Monday 29 February 2016\, 9.00am - 4.00pm\n                                        Room 7\n                         Day 2 - Tuesday 08 March 2016\, 9.00am - 4.00pm\n                                        Room 7\n  Location:     Catholic Education Conference Centre\n                          116 George Street\, Thebarton\n                         \n AITSL NATIONAL PROFESSIONAL STANDARDS FOR TEACHERS INCLUDE:\n Standard 5 - Assess\, provide feedback and report on student learning\n      5.1 Assess student learning\n       5.3 Make consistent and comparable judgments\n       5.4 Interpret student data\n Standard 6 - Engage in professional learning\n       6.2 Engage in professional learning and improve practice\n       6.3 Engage with colleagues and improve practice\n \n INTENDED FOR:\nThis workshop is suitable for primary and secondary teachers who wish to learn how to use the Levels to assess oral and written language as an assessment for learning tool. Also schools that are intending to submit EAL data in 2016 need to ensure that at least one of their teachers is trained in using the Levels.\n  PROGRAM OUTLINE:\nParticipants are encouraged to bring their own laptop or tablet.\n Day 1 and 2\n      * An introduction to the Language and Literacy Levels and links to the Australian Curriculum\n\n        * Learn about the functional model of language at text\, sentence and word levels\n\n        * Use the levels to assess student writing and identify teaching and learning needs\n\n  Cost: no workshop fee\n  Catering: morning tea and lunch will be  provided\n  Parking is not available on site. Please refer to the attached link.\n Catholic Education Conference Centre\n  For Further Information regarding registration:\nChris Virgin\n chris.virgin@cesa.catholic.edu.au\n or  8301 6851\n
DTSTAMP:20260424T190733Z
END:VEVENT
BEGIN:VEVENT
UID:WILD_APRICOT_EVENT_2100344_SESSION_2
DTSTART:20160307T223000Z
DTEND:20160308T053000Z
SUMMARY:EAL - Assessment for Learning Using the Language and Literacy Levels - 2 Day Workshop - Term 1\, 2016 (session 2 of 2)
LOCATION:Catholic Education Conference Centre\, 116 George Street\, Thebarton
DESCRIPTION:https://registrationcentre.cesa.catholic.edu.au/event-2100344\n\nEAL\n \n Assessment for Learning Using the Language and Literacy Levels - 2 Day Workshop - Term 1\, 2016\n  Last Day to Register: Wednesday 24February 2016\n  COURSE DESCRIPTION\n The Language and Literacy Levels across the Australian Curriculum: EALD students is the tool used by teachers of EAL learners to assess and plan for their language and literacy development. The Levels provide detailed information about students' written and oral language development which can be used for assessment and programming purposes for all students.\n  COURSE INFORMATION\n          Participants are required to attend both sessions\n When:         Day 1 - Monday 29 February 2016\, 9.00am - 4.00pm\n                                        Room 7\n                         Day 2 - Tuesday 08 March 2016\, 9.00am - 4.00pm\n                                        Room 7\n  Location:     Catholic Education Conference Centre\n                          116 George Street\, Thebarton\n                         \n AITSL NATIONAL PROFESSIONAL STANDARDS FOR TEACHERS INCLUDE:\n Standard 5 - Assess\, provide feedback and report on student learning\n      5.1 Assess student learning\n       5.3 Make consistent and comparable judgments\n       5.4 Interpret student data\n Standard 6 - Engage in professional learning\n       6.2 Engage in professional learning and improve practice\n       6.3 Engage with colleagues and improve practice\n \n INTENDED FOR:\nThis workshop is suitable for primary and secondary teachers who wish to learn how to use the Levels to assess oral and written language as an assessment for learning tool. Also schools that are intending to submit EAL data in 2016 need to ensure that at least one of their teachers is trained in using the Levels.\n  PROGRAM OUTLINE:\nParticipants are encouraged to bring their own laptop or tablet.\n Day 1 and 2\n      * An introduction to the Language and Literacy Levels and links to the Australian Curriculum\n\n        * Learn about the functional model of language at text\, sentence and word levels\n\n        * Use the levels to assess student writing and identify teaching and learning needs\n\n  Cost: no workshop fee\n  Catering: morning tea and lunch will be  provided\n  Parking is not available on site. Please refer to the attached link.\n Catholic Education Conference Centre\n  For Further Information regarding registration:\nChris Virgin\n chris.virgin@cesa.catholic.edu.au\n or  8301 6851\n
DTSTAMP:20260424T190733Z
END:VEVENT
END:VCALENDAR
