BEGIN:VCALENDAR
VERSION:2.0
METHOD:PUBLISH
BEGIN:VEVENT
UID:WILD_APRICOT_EVENT_2067458_SESSION_1
DTSTART:20151029T223000Z
DTEND:20151030T050000Z
SUMMARY:Australian Curriculum Version 8.0: Familiarisation sessions for School and Curriculum Leaders with a Primary Focus
LOCATION:Glenelg Golf Club\, James Melrose Road\, Novar Gardens
DESCRIPTION:https://registrationcentre.cesa.catholic.edu.au/event-2067458\n\nAustralian Curriculum Version 8.0: Familiarisation sessions for Primary School and Curriculum Leaders\n  COURSE DESCRIPTION\n  This two hour session is designed to support primary school and curriculum leaders in the implementation of the Australian Curriculum Version 8.0.\n  COURSE INFORMATION\n  Choose one of the following times:\n  Friday October 30 : 9.00 - 11.00am\n Friday October 30 : 1.30 - 3.30pm\n  Glenelg Golf Club\n James Melrose Road\,\n Novar Gardens\n  CORE FOCI AND PRIORITIES\n      * Familiarisation with the newly endorsed Australian Curriculum Version 8.0\n\n\n        * Professional conversations with colleagues regarding implementation challenges and opportunities\n\n     AITSL AUSTRALIAN PROFESSIONAL STANDARDS FOR TEACHERS INCLUDE      \n      2.3 Curriculum\, assessment and reporting\n   3.2 Plan\, structure and sequence learning programs      6.4 Apply professional learning and improve student learning      \n      INTENDED FOR:      \n      Curriculum leaders with responsibility for implementation of the Australian Curriculum R-7      \n      PROGRAM OUTLINE      \n      2 hour sessions      \n      FACILITATOR      \n      Marianne Farrugia\, CESA Australian Curriculum Consultant      \n      SYSTEM ACCREDITED MODULE: No      \n      REGISTRATION CLOSED: Tuesday\, 27 October\, 4.00pm   For workshop inquiry please contact:\n  Marianne Farrugia on 8301 6147 or marianne.farrugia@cesa.catholic.edu.auFor registration inquiry please contact:\n  Ria Wong on 8301 6618 or ria.wong@cesa.catholic.edu.au\n  \n \n \n \n\n  \n \n  \n
DTSTAMP:20260424T154209Z
END:VEVENT
END:VCALENDAR
