BEGIN:VCALENDAR
VERSION:2.0
METHOD:PUBLISH
BEGIN:VEVENT
UID:WILD_APRICOT_EVENT_1973233_SESSION_1
DTSTART:20150915T233000Z
DTEND:20150916T060000Z
SUMMARY:Taste of technology
LOCATION:St. Joseph's School Renmark 36 Twelfth St Renmark
DESCRIPTION:https://registrationcentre.cesa.catholic.edu.au/event-1973233\n\nTaste of technology:  for teachers in the Riverland\n  \nThe workshop activities are designed to scaffold teachers engage with digital technologies to support students to create digital solutions.\n    COURSE DESCRIPTION\n  The workshop will enable teachers to explore digital technologies and the ICT capability which encourages students to use of technology.\n    Digital Technologies \n \n Scratch: Introduction and simple program\n Other visual programming options like hour of code\, code clubs\, coding apps\n LEGO WeDo robotics with Scratch\n Makey Makey\n  Communicating with ICT \n  Sample of Creating and Communicating tools for use in the classroom. Tools could include a selection from:\n  Padlet                            Popplet\nMapping tools           Augmented Reality\nOnline Polls                 Sway & Office products\n    CORE FOCI AND PRIORITIES\n      * Australian Curriculum - Technologies\n\n        * Australia Curriculum - General Capability - ICT\n\n  AITSL AUSTRALIAN PROFESSIONAL STANDARDS FOR TEACHERS INCLUDE\n\n    Standard 4: Create and maintain supportive and safe learning environments (4.5)\n  Standard 6: Engage in professional learning \n    INTENDED FOR:\n  Teachers in the Port Pirie Diocese  interested in exploring the use of tools to support students create and communicate with digital tools.\n  PROGRAM OUTLINE\n      * Workshop to use a range of digital technologies and communication and creation tools. \n\n        * total hours - 6 hours\n\n  FACILITATOR\n      * Learning and Technologies Team\n\n  SYSTEM ACCREDITED MODULE: NO\n  CONTACT DETAILS\n  Anne De Nicolo  anne.denicolo@cesa.catholic.edu.au\n or\n Tom Melingakos tom.melingakos@cesa.catholic.edu.au \n  Registration inquiries: Binaya.poudyal@cesa.catholic.edu.au \n  \n\n
DTSTAMP:20260424T153614Z
END:VEVENT
END:VCALENDAR
