BEGIN:VCALENDAR
VERSION:2.0
METHOD:PUBLISH
BEGIN:VEVENT
UID:WILD_APRICOT_EVENT_1962529_SESSION_1
DTSTART:20150916T233000Z
DTEND:20150917T023000Z
SUMMARY:Taste of technology: Creating & Communicating with ICT
LOCATION:Standpipe Golf Motor Inn: Afghan Cameleers Room
DESCRIPTION:https://registrationcentre.cesa.catholic.edu.au/event-1962529\n\nTaste of technology: Creating  & Communicating with ICT for teachers in the Port Pirie Diocese\n  \nThe workshop activities are designed to scaffold teachers engage with digital technologies to support students to create digital solutions.\n     Cancelled due to limited registrations.     COURSE DESCRIPTION\n  The workshop will enable teachers to explore the ICT capability which encourages students to use of technology.\n  COURSE INFORMATION : Sample of Creating and Communicating tools for use in the classroom. Tools could include a selection from:\n  Padlet                          Popplet\n  Mapping tools           Augmented Reality\n  Online Polls                 Sway & Office products\n            \n  Thursday 17th September\n9.00 am - 12.00 pm\n    Venue:\n Standpipe Golf Motor Inn: Afghan Cameleers Room\nCorner Eyre and Sturt Highways: Daw St\, Port Augusta\n    CORE FOCI AND PRIORITIES\n      * Australia Curriculum - General Capability - ICT\n\n  AITSL AUSTRALIAN PROFESSIONAL STANDARDS FOR TEACHERS INCLUDE\n\n    Standard 4: Create and maintain supportive and safe learning environments (4.5)\n  Standard 6: Engage in professional learning \n    INTENDED FOR:\n  Teachers in the Port Pirie Diocese  interested in exploring the use of tools to support students create and communicate with digital tools.\n  PROGRAM OUTLINE\n      * Half day workshop to use a range of digital communication and creation tools. \n\n        * total hours - 3 hours\n\n  FACILITATOR\n      * Learning and Technologies Team\n\n  SYSTEM ACCREDITED MODULE: NO\n  CONTACT DETAILS\n  Anne De Nicolo  anne.denicolo@cesa.catholic.edu.au\n or\n Tom Melingakos tom.melingakos@cesa.catholic.edu.au \n  Registration inquiries: Binaya.poudyal@cesa.catholic.edu.au \n  \n\n
DTSTAMP:20260424T172136Z
END:VEVENT
END:VCALENDAR
