BEGIN:VCALENDAR
VERSION:2.0
METHOD:PUBLISH
BEGIN:VEVENT
UID:WILD_APRICOT_EVENT_1962527_SESSION_1
DTSTART:20150916T030000Z
DTEND:20150916T060000Z
SUMMARY:Taste of technology: Digital Technologies
LOCATION:Standpipe Golf Motor Inn: Afghan Cameleers Room
DESCRIPTION:https://registrationcentre.cesa.catholic.edu.au/event-1962527\n\nTaste of technology: Digital Technologies for teachers in Port Pirie Diocese  The workshop activities are designed to scaffold teachers engage with digital technologies to support students to create digital solutions.\n  Cancelled due to limited registrations.\n\n  COURSE DESCRIPTION\nThe workshop will enable teachers to explore a range of digital technologies. The Technologies curriculum reflects the shift from the ICT capability which encourages the use of technology\, to using digital technologies to create digital solutions.\n  COURSE INFORMATION\n  The Learning and Technologies Team will provide participants with\n\n  access to a range of new digital technologies including LittleBits\, Lego WeDo\, Makey Makeys\, Scratch and related programming apps.\n    Wednesday 16th September\n 12.30 pm - 3.30 pm\n    Venue:\n Standpipe Golf Motor Inn: Afghan Cameleers Room\nCorner Eyre and Sturt Highways: Daw St\, Port Augusta\n    CORE FOCI AND PRIORITIES\n      * Australia Curriculum Technologies\n\n  AITSL AUSTRALIAN PROFESSIONAL STANDARDS FOR TEACHERS INCLUDE\n      * Standard 4: Create and maintain supportive and safe learning environments (4.5)\n\n\n        * Standard 6: Engage in professional learning \n\n\n      INTENDED FOR:\n  Teachers in the Port Pirie Diocese interested in exploring the use of digital technologies in the classroom.\n  PROGRAM OUTLINE\n      * Half day workshop with hands on activities \n\n        * total hours - 3 hours\n\n  FACILITATOR\n      * Learning and Technologies Team\n\n  SYSTEM ACCREDITED MODULE: NO\n  CONTACT DETAILS\n  Anne De Nicolo  anne.denicolo@cesa.catholic.edu.au\n or\n Tom Melingakos tom.melingakos@cesa.catholic.edu.au \n  Registration inquiries: Binaya.poudyal@cesa.catholic.edu.au \n  \n\n
DTSTAMP:20260424T172455Z
END:VEVENT
END:VCALENDAR
