BEGIN:VCALENDAR
VERSION:2.0
METHOD:PUBLISH
BEGIN:VEVENT
UID:WILD_APRICOT_EVENT_1903898_SESSION_1
DTSTART:20150518T233000Z
DTEND:20150519T023000Z
SUMMARY:F-10 Australian Curriculum Leaders Workshop: Enabling and Recognising Learning through Task Design
LOCATION:Glenelg Golf Club\, James Melrose Road\, Novar Gardens
DESCRIPTION:https://registrationcentre.cesa.catholic.edu.au/event-1903898\n\nF-10 Australian Curriculum Leaders Workshop: Enabling and Recognising Learning through Task Design\n  \n  COURSE DESCRIPTION\n  This workshop will utilise the draft form materials produced by the DECD Pedagogy and Learning Team ' Transforming Tasks' which lead educators through a process of redesigning tasks with a focus on intellectual stretch. It will also explore mechanisms for considering the accessibility\, validity and reliability of assessment tasks.\n  This half day workshop will be an opportunity for curriculum leaders to become familiar with these tools so as to assist in facilitating professional learning at their own school sites.\n  COURSE INFORMATION\n  Monday 18th May 9am to 12pm\n or\n Tuesday 19th May 9am to 12pm\n  Glenelg Golf Club\, James Melrose Road\, Novar Gardens\n  Morning tea will be provided\n  CORE FOCI AND PRIORITIES\n  Participants will explore how to:\n        * Redesign learning tasks with a focus on intellectual stretch\n\n        * Analyse assessment tasks for accessibility\, validity and reliability\n\n     AITSL AUSTRALIAN PROFESSIONAL STANDARDS FOR TEACHERS INCLUDE      2.3 Curriculum\, assessment and reporting      3.2 Plan\, structure and sequence learning programs      6.4 Apply professional learning and improve student learning      \n      INTENDED FOR:\n      Curriculum leaders with a responsibility for implementation of the Australian Curriculum F-10      \n      PROGRAM OUTLINE      3 hour workshop      \n      FACILITATOR      Marianne Farrugia\, CESA Australian Curriculum Consultant\n   marianne.farrugia@cesa.catholic.edu.au      REGISTRATION CLOSED: Monday\, 11 May 2015 (4.00pm)      \n      For registration inquiry please contact:      Ria Wong\n   ria.wong@cesa.catholic.edu.au      \n      \n   
DTSTAMP:20260424T154121Z
END:VEVENT
END:VCALENDAR
