BEGIN:VCALENDAR
VERSION:2.0
METHOD:PUBLISH
BEGIN:VEVENT
UID:WILD_APRICOT_EVENT_1899624_SESSION_1
DTSTART:20150520T033000Z
DTEND:20150520T063000Z
SUMMARY:Mathematics Course: Statistics & Probability Unit
LOCATION:Room 7\, Catholic Education Office Conference Centre
DESCRIPTION:https://registrationcentre.cesa.catholic.edu.au/event-1899624\n\n\n\n    \nMathematics Course\n  \nStatistics & Probability Unit\n  The Mathematics course consists of three units:\n\n      * Statistics & Probability will be run in Terms 2 and 3\, 2015\n\n\n        * Measurement & Geometry will run in Terms 3 and 4\, 2015\n\n\n        * Number & Algebra will be run in 2016\n\n\n    The course is designed to build on teachers’ current mathematical understanding. It will predominately use an inquiry approach to the learning of mathematics. \n\n  Teachers can opt to do one or two units. It is however\, preferable that they undertake all 3 units. Registration is required for each of the three Unit.\n\n     \n      INTENDED FOR:    Teachers from Reception to Year 10 who want to further their own mathematical knowledge\n\n   OUTCOMES\n\n        *      build a deeper understanding of mathematical concepts in the three content strands in the Australian Curriculum\n\n   \n\n        * be a more confident and enthusiastic mathematics teacher\n\n      * be more numerate citizens and recognise and develop numeracy across other learning areas to enrich learning for students\n\n      * be motivated to continue the journey of lifelong learning of mathematics\n\n      \n\nCOURSE DESCRIPTION\n\n     Unit: Statistics & Probability      \n      Probability\n          * Experimental probability\n\n\n          * Theoretical probability\n\n\n          * Using percentages to describe probability\n\n\n      \n      Representation and interpretation of data      Measure of central tendency      \n      Methods of representing data:          * Stem and leaf plots\n\n\n          * Box and whisker plots\n\n\n          * Histograms and frequency tables\n\n\n          * Linear regression\n\n\n          * Distribution\n\n\n      \n \n COURSE INFORMATION\n  \n\n                   Term         Date         Time                  2         Week 4: Wednesday 20 May         1.00 - 4.00pm                  \n         Week 7: Wednesday 10 June        1.00 - 4.00pm                          Week 9: Wednesday 24 June         1.00 - 4.00pm                  School Holidays         Tuesday 14 July         1.00 - 5.00pm                   3         Week 6: Friday 28 August         1.00 - 4.00pm         \n  Venue  Catholic Education Conference Centre\n 116 George Street\n THEBARTON SA 5031\n  Please refer to this Parking information\n  \n\n  CORE FOCI AND PRIORITIES\n\nAustralian Curriculum\n \n AITSL AUSTRALIAN PROFESSIONAL STANDARDS FOR TEACHERS\n This course addresses aspects of standard 2\, 3\, 6 and 7\, specifically  2.1: Content and teaching strategies of the teaching area\n  3.5: Use effective classroom communication\n  6.2: Engage in professional learning and improve practice\n7.4: Engage in professional teaching networks and broader communities  \n\nPROGRAM OUTLINE\n Time allocation: 16 hours if all 5 sessions are attended    SYSTEM ACCREDITED MODULE: No\nRegistrations close Wednesday 16 May.  \n\nCOURSE INFORMATION  Christine Slattery 8301 6675  Christine.Slattery@cesa.catholic.edu.au\n\n  \n\n  
DTSTAMP:20260424T172536Z
END:VEVENT
END:VCALENDAR
